BEGIN:VCALENDAR
VERSION:2.0
PRODID:-//ok.edith-webco.de//NONSGML kigkonsult.se iCalcreator 2.41.92//
CALSCALE:GREGORIAN
METHOD:PUBLISH
UID:61643930-3737-4662-a437-306430666463
X-WR-TIMEZONE:Europe/Berlin
X-LIC-LOCATION:Europe/Berlin
BEGIN:VEVENT
UID:591572-kulturportal@ok.edith-webco.de
DTSTAMP:20260425T123409Z
DESCRIPTION:Kurzbeschreibung:\n Die Kulturpause ist ein kostenfreier Impuls
  für die Mittagspause\, Dauer: 15 Minuten.\n Ort:\n Salmen\n Langestrasse 
 52\, 77652 Offenburg\n Veranstalter:\n Der Salmen\n Termin:\n Beginn: 18.0
 6.2026\, 12:30 Uhr\n Ende: 18.06.2026\n Link:\n Zur Detailseite
DTSTART;TZID=Europe/Berlin:20260618T123000
DTEND;TZID=Europe/Berlin:20260618T153000
LOCATION:Salmen\, Langestrasse 52\, 77652 Offenburg
SUMMARY:Kulturpause: 'Ich bin eure Stimme' - Vom Kampf für eine gerechtere 
 Welt\, Salmen
X-ALT-DESC;FMTTYPE=text/html:<strong>Kurzbeschreibung:</strong><br/>Die Kul
 turpause ist ein kostenfreier Impuls für die Mittagspause\, Dauer: 15 Minu
 ten.<br /><strong>Ort:</strong><br/>Salmen<br/>Langestrasse 52\, 77652 Off
 enburg<br /><strong>Veranstalter:</strong><br/>Der Salmen<br /><strong>Ter
 min:</strong><br/>Beginn: 18.06.2026\, 12:30 Uhr<br/>Ende: 18.06.2026<br /
 ><strong>Link:</strong><br/><a href='https://ok.edith-webco.de/de/veransta
 ltungen/detail/veranstaltung/id/591572-kulturpause-ich-bin-eure-stimme-vom
 -kampf-fuer-eine-gerechtere-welt/?vt=1'>Zur Detailseite</a>
END:VEVENT
END:VCALENDAR
