BEGIN:VCALENDAR
VERSION:2.0
PRODID:-//ok.edith-webco.de//NONSGML kigkonsult.se iCalcreator 2.41.92//
CALSCALE:GREGORIAN
METHOD:PUBLISH
UID:34393561-3964-4461-b139-323535633866
X-WR-TIMEZONE:Europe/Berlin
X-LIC-LOCATION:Europe/Berlin
BEGIN:VEVENT
UID:428973-kulturportal@ok.edith-webco.de
DTSTAMP:20260425T134849Z
DESCRIPTION:Kurzbeschreibung:\n 'Freunde der handgemachten Rockmusik kommen
  am Freitag\, 31.07.2021 auf ihre Kosten.\n Ort:\n Mayerhof\, Rankach 53\n
  Rankach 53 \, 77709 Oberwolfach\n Veranstalter:\n Edgar Schillinger\n Ter
 min:\n Beginn: 31.07.2026\, 20:00 Uhr\n Ende: 31.07.2026\n Link:\n Zur Det
 ailseite
DTSTART;TZID=Europe/Berlin:20260731T200000
DTEND;TZID=Europe/Berlin:20260731T230000
LOCATION:Mayerhof\, Rankach 53\, Rankach 53 \, 77709 Oberwolfach
SUMMARY:Konzert der Coverband 'Fire@Five'\, Mayerhof
X-ALT-DESC;FMTTYPE=text/html:<strong>Kurzbeschreibung:</strong><br/>'Freund
 e der handgemachten Rockmusik kommen am Freitag\, 31.07.2021 auf ihre Kost
 en. <br /><strong>Ort:</strong><br/>Mayerhof\, Rankach 53<br/>Rankach 53 \
 , 77709 Oberwolfach<br /><strong>Veranstalter:</strong><br/>Edgar Schillin
 ger<br /><strong>Termin:</strong><br/>Beginn: 31.07.2026\, 20:00 Uhr<br/>E
 nde: 31.07.2026<br /><strong>Link:</strong><br/><a href='https://ok.edith-
 webco.de/de/veranstaltungen/detail/veranstaltung/id/428973-konzert-der-cov
 erband-fire-five/?vt=1'>Zur Detailseite</a>
END:VEVENT
END:VCALENDAR
