BEGIN:VCALENDAR
VERSION:2.0
PRODID:-//ok.edith-webco.de//NONSGML kigkonsult.se iCalcreator 2.41.92//
CALSCALE:GREGORIAN
METHOD:PUBLISH
UID:63343730-6339-4534-a533-626536333536
X-WR-TIMEZONE:Europe/Berlin
X-LIC-LOCATION:Europe/Berlin
BEGIN:VEVENT
UID:478597-kulturportal@ok.edith-webco.de
DTSTAMP:20260425T185313Z
DESCRIPTION:Kurzbeschreibung:\n Von Samstag bis Montag findet das tradition
 elle Sommerfest des Musikvereins Prinzbach-Schönbergs in Prinzbach statt.
 \n Ort:\n Schulhof und Dorfwiese\n Prinzbach\, 77781 Biberach - Prinzbach
 \n Veranstalter:\n Musikverein Prinzbach-Schönberg e.V.\n Termin:\n Beginn
 : 15.08.2026\n Ende: 15.08.2026\n Link:\n Zur Detailseite
DTSTART;TZID=Europe/Berlin:20260815T000000
DTEND;TZID=Europe/Berlin:20260815T030000
LOCATION:Schulhof und Dorfwiese\, Prinzbach\, 77781 Biberach - Prinzbach
SUMMARY:Sommerfest mit Highlandgames\, Schulhof Prinzbach
X-ALT-DESC;FMTTYPE=text/html:<strong>Kurzbeschreibung:</strong><br/>Von Sam
 stag bis Montag findet das traditionelle Sommerfest des Musikvereins Prinz
 bach-Schönbergs in Prinzbach statt.<br /><strong>Ort:</strong><br/>Schulho
 f und Dorfwiese<br/>Prinzbach\, 77781 Biberach - Prinzbach<br /><strong>Ve
 ranstalter:</strong><br/>Musikverein Prinzbach-Schönberg e.V.<br /><strong
 >Termin:</strong><br/>Beginn: 15.08.2026<br/>Ende: 15.08.2026<br /><strong
 >Link:</strong><br/><a href='https://ok.edith-webco.de/de/veranstaltungen/
 detail/veranstaltung/id/478597-sommerfest-mit-highlandgames/?vt=1'>Zur Det
 ailseite</a>
END:VEVENT
END:VCALENDAR
