BEGIN:VCALENDAR
VERSION:2.0
PRODID:-//ok.edith-webco.de//NONSGML kigkonsult.se iCalcreator 2.41.92//
CALSCALE:GREGORIAN
METHOD:PUBLISH
UID:39336532-6364-4334-b762-303532643566
X-WR-TIMEZONE:Europe/Berlin
X-LIC-LOCATION:Europe/Berlin
BEGIN:VEVENT
UID:509645-kulturportal@ok.edith-webco.de
DTSTAMP:20260425T190505Z
DESCRIPTION:Kurzbeschreibung:\n In lauschiger Atmosphäre können die Gäste s
 timmungsvolle und gesellige Stunden voller Musik erleben.\n Ort:\n Sport- 
 und Festhalle\n Brucherstraße\, 77781 Biberach\n Veranstalter:\n Musikvere
 in Biberach e.V.\n Termin:\n Beginn: 18.07.2026\, 19:00 Uhr\n Ende: 18.07.
 2026\n Link:\n Zur Detailseite
DTSTART;TZID=Europe/Berlin:20260718T190000
DTEND;TZID=Europe/Berlin:20260718T220000
LOCATION:Sport- und Festhalle\, Brucherstraße\, 77781 Biberach
SUMMARY:Dorffest\, Sport- und Festhalle
X-ALT-DESC;FMTTYPE=text/html:<strong>Kurzbeschreibung:</strong><br/>In laus
 chiger Atmosphäre können die Gäste stimmungsvolle und gesellige Stunden vo
 ller Musik erleben.<br /><strong>Ort:</strong><br/>Sport- und Festhalle<br
 />Brucherstraße\, 77781 Biberach<br /><strong>Veranstalter:</strong><br/>M
 usikverein Biberach e.V.<br /><strong>Termin:</strong><br/>Beginn: 18.07.2
 026\, 19:00 Uhr<br/>Ende: 18.07.2026<br /><strong>Link:</strong><br/><a hr
 ef='https://ok.edith-webco.de/de/veranstaltungen/detail/veranstaltung/id/5
 09645-dorffest/?vt=1'>Zur Detailseite</a>
END:VEVENT
END:VCALENDAR
