BEGIN:VCALENDAR
VERSION:2.0
PRODID:-//ok.edith-webco.de//NONSGML kigkonsult.se iCalcreator 2.41.92//
CALSCALE:GREGORIAN
METHOD:PUBLISH
UID:31613932-6665-4732-a466-333833326136
X-WR-TIMEZONE:Europe/Berlin
X-LIC-LOCATION:Europe/Berlin
BEGIN:VEVENT
UID:514868-kulturportal@ok.edith-webco.de
DTSTAMP:20260425T162726Z
DESCRIPTION:Kurzbeschreibung:\n Tolles Kinder- & Familienprogramm\, mit Mus
 ikprogramm von Rob Notes. Seid gespannt!\n Ort:\n Bürgerpark\n Im Dorf 26\
 , 77787 Nordrach\n Veranstalter:\n Touristen-Information Nordrach\n Termin
 :\n Beginn: 22.05.2026\, 17:00 Uhr\n Ende: 22.05.2026\n Link:\n Zur Detail
 seite
DTSTART;TZID=Europe/Berlin:20260522T170000
DTEND;TZID=Europe/Berlin:20260522T200000
LOCATION:Bürgerpark\, Im Dorf 26\, 77787 Nordrach
SUMMARY:Nordracher Frühlingsfest\, Bürgerpark
X-ALT-DESC;FMTTYPE=text/html:<strong>Kurzbeschreibung:</strong><br/>Tolles 
 Kinder- & Familienprogramm\, mit Musikprogramm von Rob Notes. Seid gespann
 t!<br /><strong>Ort:</strong><br/>Bürgerpark<br/>Im Dorf 26\, 77787 Nordra
 ch<br /><strong>Veranstalter:</strong><br/>Touristen-Information Nordrach<
 br /><strong>Termin:</strong><br/>Beginn: 22.05.2026\, 17:00 Uhr<br/>Ende:
  22.05.2026<br /><strong>Link:</strong><br/><a href='https://ok.edith-webc
 o.de/de/veranstaltungen/detail/veranstaltung/id/514868-nordracher-fruehlin
 gsfest/?vt=1'>Zur Detailseite</a>
END:VEVENT
END:VCALENDAR
