BEGIN:VCALENDAR
VERSION:2.0
PRODID:-//ok.edith-webco.de//NONSGML kigkonsult.se iCalcreator 2.41.92//
CALSCALE:GREGORIAN
METHOD:PUBLISH
UID:30326339-3439-4437-b932-393632306464
X-WR-TIMEZONE:Europe/Berlin
X-LIC-LOCATION:Europe/Berlin
BEGIN:VEVENT
UID:556104-kulturportal@ok.edith-webco.de
DTSTAMP:20260425T113453Z
DESCRIPTION:Kurzbeschreibung:\n Vergnügter Treff mit Familie und Freunden -
  gleich nach der Arbeit. Welche Ente ist am schnellsten? Verlosung mit tol
 len Preisen\, Bewirtung und Live-Musik\n Ort:\n Austraße beim Unteren Tor\
 , zwischen Gasthaus Pflug und Gasthaus Adler\n Ecke Friedrichstraße/Austra
 ße\, 77955 Ettenheim\n Veranstalter:\n Unternehmen Ettenheim e.V. (Sch)\n 
 Termin:\n Beginn: 24.06.2026\n Ende: 24.06.2026\n Link:\n Zur Detailseite
DTSTART;TZID=Europe/Berlin:20260624T000000
DTEND;TZID=Europe/Berlin:20260624T030000
LOCATION:Austraße beim Unteren Tor\, zwischen Gasthaus Pflug und Gasthaus A
 dler\, Ecke Friedrichstraße/Austraße\, 77955 Ettenheim
SUMMARY:After-Work-Party mit Live-Musik und Entenrennen\, Ettenheim Adlerpl
 atz
X-ALT-DESC;FMTTYPE=text/html:<strong>Kurzbeschreibung:</strong><br/>Vergnüg
 ter Treff mit Familie und Freunden - gleich nach der Arbeit. Welche Ente i
 st am schnellsten? Verlosung mit tollen Preisen\, Bewirtung und Live-Musik
   <br /><strong>Ort:</strong><br/>Austraße beim Unteren Tor\, zwischen Gas
 thaus Pflug und Gasthaus Adler<br/>Ecke Friedrichstraße/Austraße\, 77955 E
 ttenheim<br /><strong>Veranstalter:</strong><br/>Unternehmen Ettenheim e.V
 . (Sch)<br /><strong>Termin:</strong><br/>Beginn: 24.06.2026<br/>Ende: 24.
 06.2026<br /><strong>Link:</strong><br/><a href='https://ok.edith-webco.de
 /de/veranstaltungen/detail/veranstaltung/id/556104-after-work-party-mit-li
 ve-musik-und-entenrennen/?vt=1'>Zur Detailseite</a>
END:VEVENT
END:VCALENDAR
