BEGIN:VCALENDAR
VERSION:2.0
PRODID:-//ok.edith-webco.de//NONSGML kigkonsult.se iCalcreator 2.41.92//
CALSCALE:GREGORIAN
METHOD:PUBLISH
UID:35373135-3130-4636-b739-353338666264
X-WR-TIMEZONE:Europe/Berlin
X-LIC-LOCATION:Europe/Berlin
BEGIN:VEVENT
UID:564260-kulturportal@ok.edith-webco.de
DTSTAMP:20260425T123151Z
DESCRIPTION:Kurzbeschreibung:\n versch. Langos Kostproben inkl. Mineralwass
 er und zwei Cocktail nach Wahl. Anmelden bei Martina Webering\, info@heide
 nbuehl-hof.de\, Tel. 07838 663. Heidenbühl 2\n Ort:\n Heidenbühlhof\n Heid
 enbühl 2\, 77787 Nordrach\n Veranstalter:\n Heidenbühlhof\n Termin:\n Begi
 nn: 04.07.2026\n Ende: 04.07.2026\n Link:\n Zur Detailseite
DTSTART;TZID=Europe/Berlin:20260704T000000
DTEND;TZID=Europe/Berlin:20260704T030000
LOCATION:Heidenbühlhof\, Heidenbühl 2\, 77787 Nordrach
SUMMARY:Langos satt - auf dem Heidenbühlhof\, Heidenbühlhof
X-ALT-DESC;FMTTYPE=text/html:<strong>Kurzbeschreibung:</strong><br/>versch.
  Langos Kostproben inkl. Mineralwasser und zwei Cocktail nach Wahl. Anmeld
 en bei Martina Webering\,  info@heidenbuehl-hof.de\, Tel. 07838 663. Heide
 nbühl 2<br /><strong>Ort:</strong><br/>Heidenbühlhof<br/>Heidenbühl 2\, 77
 787 Nordrach<br /><strong>Veranstalter:</strong><br/>Heidenbühlhof<br /><s
 trong>Termin:</strong><br/>Beginn: 04.07.2026<br/>Ende: 04.07.2026<br /><s
 trong>Link:</strong><br/><a href='https://ok.edith-webco.de/de/veranstaltu
 ngen/detail/veranstaltung/id/564260-langos-satt-auf-dem-heidenbuehlhof/?vt
 =1'>Zur Detailseite</a>
END:VEVENT
END:VCALENDAR
