BEGIN:VCALENDAR
VERSION:2.0
PRODID:-//ok.edith-webco.de//NONSGML kigkonsult.se iCalcreator 2.41.92//
CALSCALE:GREGORIAN
METHOD:PUBLISH
UID:33363261-6164-4837-a439-346230333666
X-WR-TIMEZONE:Europe/Berlin
X-LIC-LOCATION:Europe/Berlin
BEGIN:VEVENT
UID:567638-kulturportal@ok.edith-webco.de
DTSTAMP:20260424T192806Z
DESCRIPTION:Kurzbeschreibung:\n Musik auf vier Bühnen\; Lichterornamente un
 d der unvergleichliche Flair des Lahrer Stadtparks zaubern eine einzigarti
 ge Atmosphäre.\n Ort:\n Stadtpark\n Kaiserstraße 107\, 77933 Lahr\n Verans
 talter:\n Stadtkapelle Lahr e.V.\n Termin:\n Beginn: 03.07.2027\n Ende: 03
 .07.2027\n Tickets:\n Tickets\n Link:\n Zur Detailseite
DTSTART;TZID=Europe/Berlin:20270703T000000
DTEND;TZID=Europe/Berlin:20270703T030000
LOCATION:Stadtpark\, Kaiserstraße 107\, 77933 Lahr
SUMMARY:Lichterfest 2027 im Stadtpark - Das Original mit Tradition!\, Stadt
 park
X-ALT-DESC;FMTTYPE=text/html:<strong>Kurzbeschreibung:</strong><br/>Musik a
 uf vier Bühnen\; Lichterornamente und der unvergleichliche Flair des Lahre
 r Stadtparks zaubern eine einzigartige Atmosphäre.\n<br /><strong>Ort:</st
 rong><br/>Stadtpark<br/>Kaiserstraße 107\, 77933 Lahr<br /><strong>Veranst
 alter:</strong><br/>Stadtkapelle Lahr e.V.<br /><strong>Termin:</strong><b
 r/>Beginn: 03.07.2027<br/>Ende: 03.07.2027<br /><strong>Tickets: </strong>
 <br/><a  class='wco_cb_subtitle_link'  id='ticketlink'  href='mailto:r.hel
 d@stadtkapelle-lahr.de' target='_blank' >Tickets</a><br /><strong>Link:</s
 trong><br/><a href='https://ok.edith-webco.de/de/veranstaltungen/detail/ve
 ranstaltung/id/567638-lichterfest-2027-im-stadtpark-das-original-mit-tradi
 tion/?vt=1'>Zur Detailseite</a>
END:VEVENT
END:VCALENDAR
