BEGIN:VCALENDAR
VERSION:2.0
PRODID:-//ok.edith-webco.de//NONSGML kigkonsult.se iCalcreator 2.41.92//
CALSCALE:GREGORIAN
METHOD:PUBLISH
UID:30663534-6332-4165-b631-653365306139
X-WR-TIMEZONE:Europe/Berlin
X-LIC-LOCATION:Europe/Berlin
BEGIN:VEVENT
UID:570962-kulturportal@ok.edith-webco.de
DTSTAMP:20260426T021509Z
DESCRIPTION:Kurzbeschreibung:\n Lesenacht in der Stadtbibliothek - Übernach
 ten zwischen den Bücherregalen.\n Ort:\n Stadtbibliothek Offenburg\, Offen
 burg\n Veranstalter:\n Stadtbibliothek Offenburg\n Termin:\n Beginn: 21.08
 .2026\, 19:00 Uhr\n Ende: 21.08.2026\n Link:\n Zur Detailseite
DTSTART;TZID=Europe/Berlin:20260821T190000
DTEND;TZID=Europe/Berlin:20260821T220000
LOCATION:Stadtbibliothek Offenburg\, Offenburg
SUMMARY:Ferienspass - Bibliotheksübernachtung\, Stadtbibliothek Offenburg
X-ALT-DESC;FMTTYPE=text/html:<strong>Kurzbeschreibung:</strong><br/>Lesenac
 ht in der Stadtbibliothek - Übernachten zwischen den Bücherregalen.<br /><
 strong>Ort:</strong><br/>Stadtbibliothek Offenburg\, Offenburg<br /><stron
 g>Veranstalter:</strong><br/>Stadtbibliothek Offenburg<br /><strong>Termin
 :</strong><br/>Beginn: 21.08.2026\, 19:00 Uhr<br/>Ende: 21.08.2026<br /><s
 trong>Link:</strong><br/><a href='https://ok.edith-webco.de/de/veranstaltu
 ngen/detail/veranstaltung/id/570962-ferienspass-bibliotheksuebernachtung/?
 vt=1'>Zur Detailseite</a>
END:VEVENT
END:VCALENDAR
