BEGIN:VCALENDAR
VERSION:2.0
PRODID:-//ok.edith-webco.de//NONSGML kigkonsult.se iCalcreator 2.41.92//
CALSCALE:GREGORIAN
METHOD:PUBLISH
UID:34383139-3739-4237-b037-356432366363
X-WR-TIMEZONE:Europe/Berlin
X-LIC-LOCATION:Europe/Berlin
BEGIN:VEVENT
UID:573168-kulturportal@ok.edith-webco.de
DTSTAMP:20260425T154026Z
DESCRIPTION:Kurzbeschreibung:\n Steven Bailey - Gitarre\, Geige und Gesang 
 Genießen mit allen Sinnen am lauschigsten Plätzchen in der Lahrer Marktstr
 aße.\n Ort:\n Schäfer´s Eck\, Am Rosenbrunnen\, Kirchstraße 1\, 77933 Lahr
 \n Ecke Marktstraße/Kirchstraße\, 77933 Lahr\n Veranstalter:\n Stadtmarket
 ing Lahr\n Termin:\n Beginn: 11.09.2026\, 17:00 Uhr\n Ende: 11.09.2026\n T
 ickets:\n kostenfreie Veranstaltung\n \n Link:\n Zur Detailseite
DTSTART;TZID=Europe/Berlin:20260911T170000
DTEND;TZID=Europe/Berlin:20260911T200000
LOCATION:Schäfer´s Eck\, Am Rosenbrunnen\, Kirchstraße 1\, 77933 Lahr \, Ec
 ke Marktstraße/Kirchstraße\, 77933 Lahr
SUMMARY:Musik & Kulinarik am Rosenbrunnen - Genuss im Sommer\, Rosenbrunnen
X-ALT-DESC;FMTTYPE=text/html:<strong>Kurzbeschreibung:</strong><br/>Steven 
 Bailey - Gitarre\, Geige und Gesang\n\nGenießen mit allen Sinnen am lausch
 igsten Plätzchen in der Lahrer Marktstraße. \n<br /><strong>Ort:</strong><
 br/>Schäfer´s Eck\, Am Rosenbrunnen\, Kirchstraße 1\, 77933 Lahr <br/>Ecke
  Marktstraße/Kirchstraße\, 77933 Lahr<br /><strong>Veranstalter:</strong><
 br/>Stadtmarketing Lahr <br /><strong>Termin:</strong><br/>Beginn: 11.09.2
 026\, 17:00 Uhr<br/>Ende: 11.09.2026<br /><strong>Tickets: </strong><br/>k
 ostenfreie Veranstaltung<br />\n<br /><strong>Link:</strong><br/><a href='
 https://ok.edith-webco.de/de/veranstaltungen/detail/veranstaltung/id/57316
 8-musik-kulinarik-am-rosenbrunnen-genuss-im-sommer/?vt=1'>Zur Detailseite<
 /a>
END:VEVENT
END:VCALENDAR
