BEGIN:VCALENDAR
VERSION:2.0
PRODID:-//ok.edith-webco.de//NONSGML kigkonsult.se iCalcreator 2.41.92//
CALSCALE:GREGORIAN
METHOD:PUBLISH
UID:61306666-3063-4536-a463-336365333930
X-WR-TIMEZONE:Europe/Berlin
X-LIC-LOCATION:Europe/Berlin
BEGIN:VEVENT
UID:573948-kulturportal@ok.edith-webco.de
DTSTAMP:20260425T123040Z
DESCRIPTION:Kurzbeschreibung:\n Auch in diesem Jahr veranstalten die örtlic
 hen Vereine wieder das Haslacher Dorffescht.\n Ort:\n Festwiese Klingelber
 ghalle Haslach\, Oberkirch-Haslach\n Veranstalter:\n Haslacher Vereine\n T
 ermin:\n Beginn: 13.06.2026\n Ende: 13.06.2026\n Link:\n Zur Detailseite
DTSTART;TZID=Europe/Berlin:20260613T000000
DTEND;TZID=Europe/Berlin:20260613T030000
LOCATION:Festwiese Klingelberghalle Haslach\, Oberkirch-Haslach
SUMMARY:Hasler Dorffescht 2026\, Festwiese Klingelberghalle Haslach
X-ALT-DESC;FMTTYPE=text/html:<strong>Kurzbeschreibung:</strong><br/>Auch in
  diesem Jahr veranstalten die örtlichen Vereine wieder das Haslacher Dorff
 escht. <br /><strong>Ort:</strong><br/>Festwiese Klingelberghalle Haslach\
 , Oberkirch-Haslach<br /><strong>Veranstalter:</strong><br/>Haslacher Vere
 ine<br /><strong>Termin:</strong><br/>Beginn: 13.06.2026<br/>Ende: 13.06.2
 026<br /><strong>Link:</strong><br/><a href='https://ok.edith-webco.de/de/
 veranstaltungen/detail/veranstaltung/id/573948-hasler-dorffescht-2026/?vt=
 1'>Zur Detailseite</a>
END:VEVENT
END:VCALENDAR
