BEGIN:VCALENDAR
VERSION:2.0
PRODID:-//ok.edith-webco.de//NONSGML kigkonsult.se iCalcreator 2.41.92//
CALSCALE:GREGORIAN
METHOD:PUBLISH
UID:35613162-6264-4033-b363-313362353836
X-WR-TIMEZONE:Europe/Berlin
X-LIC-LOCATION:Europe/Berlin
BEGIN:VEVENT
UID:580763-kulturportal@ok.edith-webco.de
DTSTAMP:20260425T175921Z
DESCRIPTION:Kurzbeschreibung:\n Traditionelles Fest in Ettenheimmünster. Am
  Sonntag Patrozinium mit festlichem Hochamt in St. Landelin. Anschl. Sakra
 ments- und Reiterprozession.\n Ort:\n Ettenheimmünster\n Münstertalstraße\
 , 77955 Ettenheim-Ettenheimmünster\n Veranstalter:\n Vereinsgemeinschaft E
 ttenheimmünster\n Termin:\n Beginn: 19.09.2026\n Ende: 19.09.2026\n Link:
 \n Zur Detailseite
DTSTART;TZID=Europe/Berlin:20260919T000000
DTEND;TZID=Europe/Berlin:20260919T030000
LOCATION:Ettenheimmünster\, Münstertalstraße\, 77955 Ettenheim-Ettenheimmün
 ster
SUMMARY:Landelinsfest in Ettenheimmünster \, Ettenheimmünster
X-ALT-DESC;FMTTYPE=text/html:<strong>Kurzbeschreibung:</strong><br/>Traditi
 onelles Fest in Ettenheimmünster. Am Sonntag Patrozinium mit festlichem Ho
 chamt in St. Landelin. Anschl. Sakraments- und Reiterprozession.<br /><str
 ong>Ort:</strong><br/>Ettenheimmünster<br/>Münstertalstraße\, 77955 Ettenh
 eim-Ettenheimmünster<br /><strong>Veranstalter:</strong><br/>Vereinsgemein
 schaft Ettenheimmünster<br /><strong>Termin:</strong><br/>Beginn: 19.09.20
 26<br/>Ende: 19.09.2026<br /><strong>Link:</strong><br/><a href='https://o
 k.edith-webco.de/de/veranstaltungen/detail/veranstaltung/id/580763-landeli
 nsfest-in-ettenheimmuenster/?vt=1'>Zur Detailseite</a>
END:VEVENT
END:VCALENDAR
