BEGIN:VCALENDAR
VERSION:2.0
PRODID:-//ok.edith-webco.de//NONSGML kigkonsult.se iCalcreator 2.41.92//
CALSCALE:GREGORIAN
METHOD:PUBLISH
UID:63646438-3838-4031-a333-356230626332
X-WR-TIMEZONE:Europe/Berlin
X-LIC-LOCATION:Europe/Berlin
BEGIN:VEVENT
UID:580808-kulturportal@ok.edith-webco.de
DTSTAMP:20260425T135401Z
DESCRIPTION:Kurzbeschreibung:\n Die Stadtkapelle lädt zur Fuchsmühle ein mi
 t Bewirtung und musikalischer Unterhaltung.\n Ort:\n Fuchsmühle\n Mühlenwe
 g 23\, 77955 Ettenheim\n Veranstalter:\n Stadtkapelle Ettenheim\n Termin:
 \n Beginn: 25.05.2026\n Ende: 25.05.2026\n Link:\n Zur Detailseite
DTSTART;TZID=Europe/Berlin:20260525T000000
DTEND;TZID=Europe/Berlin:20260525T030000
LOCATION:Fuchsmühle\, Mühlenweg 23\, 77955 Ettenheim
SUMMARY:Mühlenhock an der Fuchsmühle Ettenheim\, Fuchsmühle
X-ALT-DESC;FMTTYPE=text/html:<strong>Kurzbeschreibung:</strong><br/>Die Sta
 dtkapelle lädt zur Fuchsmühle ein mit Bewirtung und musikalischer Unterhal
 tung.<br /><strong>Ort:</strong><br/>Fuchsmühle<br/>Mühlenweg 23\, 77955 E
 ttenheim<br /><strong>Veranstalter:</strong><br/>Stadtkapelle Ettenheim<br
  /><strong>Termin:</strong><br/>Beginn: 25.05.2026<br/>Ende: 25.05.2026<br
  /><strong>Link:</strong><br/><a href='https://ok.edith-webco.de/de/verans
 taltungen/detail/veranstaltung/id/580808-muehlenhock-an-der-fuchsmuehle-et
 tenheim/?vt=1'>Zur Detailseite</a>
END:VEVENT
END:VCALENDAR
