BEGIN:VCALENDAR
VERSION:2.0
PRODID:-//ok.edith-webco.de//NONSGML kigkonsult.se iCalcreator 2.41.92//
CALSCALE:GREGORIAN
METHOD:PUBLISH
UID:34353935-3432-4761-b331-636333343332
X-WR-TIMEZONE:Europe/Berlin
X-LIC-LOCATION:Europe/Berlin
BEGIN:VEVENT
UID:581073-kulturportal@ok.edith-webco.de
DTSTAMP:20260425T144742Z
DESCRIPTION:Kurzbeschreibung:\n Freuen Sie sich auf einen großartigen Abend
  in der stimmungsvollen Kulisse des Prinzengartens.\n Ort:\n Prinzengarten
 \n Freiburger Straße\, 77955 Ettenheim\n Veranstalter:\n Amici Events\n Te
 rmin:\n Beginn: 04.07.2026\, 18:00 Uhr\n Ende: 04.07.2026\n Link:\n Zur De
 tailseite
DTSTART;TZID=Europe/Berlin:20260704T180000
DTEND;TZID=Europe/Berlin:20260704T210000
LOCATION:Prinzengarten\, Freiburger Straße\, 77955 Ettenheim
SUMMARY:Summerlounge-Night im Prinzengarten Ettenheim\, Prinzengarten
X-ALT-DESC;FMTTYPE=text/html:<strong>Kurzbeschreibung:</strong><br/>Freuen 
 Sie sich auf einen großartigen Abend in der stimmungsvollen Kulisse des Pr
 inzengartens.<br /><strong>Ort:</strong><br/>Prinzengarten<br/>Freiburger 
 Straße\, 77955 Ettenheim<br /><strong>Veranstalter:</strong><br/>Amici Eve
 nts<br /><strong>Termin:</strong><br/>Beginn: 04.07.2026\, 18:00 Uhr<br/>E
 nde: 04.07.2026<br /><strong>Link:</strong><br/><a href='https://ok.edith-
 webco.de/de/veranstaltungen/detail/veranstaltung/id/581073-summerlounge-ni
 ght-im-prinzengarten-ettenheim/?vt=1'>Zur Detailseite</a>
END:VEVENT
END:VCALENDAR
