BEGIN:VCALENDAR
VERSION:2.0
PRODID:-//ok.edith-webco.de//NONSGML kigkonsult.se iCalcreator 2.41.92//
CALSCALE:GREGORIAN
METHOD:PUBLISH
UID:63336336-6562-4230-a466-303935653334
X-WR-TIMEZONE:Europe/Berlin
X-LIC-LOCATION:Europe/Berlin
BEGIN:VEVENT
UID:581353-kulturportal@ok.edith-webco.de
DTSTAMP:20260425T150310Z
DESCRIPTION:Kurzbeschreibung:\n Lichterzauber in der Innenstadt und Gemeins
 chaftskonzert im Stadtgarten\n Ort:\n Hauptstraße und Stadtgarten\, Oberki
 rch\n Veranstalter:\n Stadtmarketing Oberkirch e. V\, Sachgebiet Kultur\n 
 Termin:\n Beginn: 10.07.2026\, 19:00 Uhr\n Ende: 10.07.2026\n Tickets:\n E
 intritt frei!\n Link:\n Zur Detailseite
DTSTART;TZID=Europe/Berlin:20260710T190000
DTEND;TZID=Europe/Berlin:20260710T220000
LOCATION:Hauptstraße und Stadtgarten\, Oberkirch
SUMMARY:Oberkirch leuchtet und Gemeinschaftskonzert\, Hauptstraße und Stadt
 garten
X-ALT-DESC;FMTTYPE=text/html:<strong>Kurzbeschreibung:</strong><br/>Lichter
 zauber in der Innenstadt und Gemeinschaftskonzert im Stadtgarten<br /><str
 ong>Ort:</strong><br/>Hauptstraße und Stadtgarten\, Oberkirch<br /><strong
 >Veranstalter:</strong><br/>Stadtmarketing Oberkirch e. V\, Sachgebiet Kul
 tur <br /><strong>Termin:</strong><br/>Beginn: 10.07.2026\, 19:00 Uhr<br/>
 Ende: 10.07.2026<br /><strong>Tickets: </strong><br/>Eintritt frei!<br /><
 strong>Link:</strong><br/><a href='https://ok.edith-webco.de/de/veranstalt
 ungen/detail/veranstaltung/id/581353-oberkirch-leuchtet-und-gemeinschaftsk
 onzert/?vt=1'>Zur Detailseite</a>
END:VEVENT
END:VCALENDAR
