BEGIN:VCALENDAR
VERSION:2.0
PRODID:-//ok.edith-webco.de//NONSGML kigkonsult.se iCalcreator 2.41.92//
CALSCALE:GREGORIAN
METHOD:PUBLISH
UID:66656366-3433-4164-b064-623836663230
X-WR-TIMEZONE:Europe/Berlin
X-LIC-LOCATION:Europe/Berlin
BEGIN:VEVENT
UID:581990-kulturportal@ok.edith-webco.de
DTSTAMP:20260425T021534Z
DESCRIPTION:Kurzbeschreibung:\n Als Erweiterung des großen Wochenmarktes fi
 ndet der Kürbismarkt in der Historischen Fachwerkaltstadt statt\n Ort:\n H
 istorische Fachwerkaltstadt\n Marktplatz\, 77716 Haslach\n Veranstalter:\n
  Landfrauen der Raumschaft Haslach\n Termin:\n Beginn: 12.09.2026\, 08:00 
 Uhr\n Ende: 12.09.2026\n Link:\n Zur Detailseite
DTSTART;TZID=Europe/Berlin:20260912T080000
DTEND;TZID=Europe/Berlin:20260912T110000
LOCATION:Historische Fachwerkaltstadt\, Marktplatz\, 77716 Haslach
SUMMARY:Kürbismarkt der Landfrauen\, Historische Fachwerkaltstadt
X-ALT-DESC;FMTTYPE=text/html:<strong>Kurzbeschreibung:</strong><br/>Als Erw
 eiterung des großen Wochenmarktes findet der Kürbismarkt in der Historisch
 en Fachwerkaltstadt statt<br /><strong>Ort:</strong><br/>Historische Fachw
 erkaltstadt<br/>Marktplatz\, 77716 Haslach<br /><strong>Veranstalter:</str
 ong><br/>Landfrauen der Raumschaft Haslach<br /><strong>Termin:</strong><b
 r/>Beginn: 12.09.2026\, 08:00 Uhr<br/>Ende: 12.09.2026<br /><strong>Link:<
 /strong><br/><a href='https://ok.edith-webco.de/de/veranstaltungen/detail/
 veranstaltung/id/581990-kuerbismarkt-der-landfrauen/?vt=1'>Zur Detailseite
 </a>
END:VEVENT
END:VCALENDAR
