BEGIN:VCALENDAR
VERSION:2.0
PRODID:-//ok.edith-webco.de//NONSGML kigkonsult.se iCalcreator 2.41.92//
CALSCALE:GREGORIAN
METHOD:PUBLISH
UID:63316138-6633-4133-b837-663631303563
X-WR-TIMEZONE:Europe/Berlin
X-LIC-LOCATION:Europe/Berlin
BEGIN:VEVENT
UID:582802-kulturportal@ok.edith-webco.de
DTSTAMP:20260425T181814Z
DESCRIPTION:Kurzbeschreibung:\n Von Schlager über Pop und Rock bis hin zum 
 Musikklassiker. Samstag 19:30 und Sonntag 18:00 Uhr. Kartenvorverkauf: www
 .gitarrenverein-nordrach.de.\n Ort:\n Hansjakob-Halle\n Im Dorf 29\, 77787
  Nordrach\n Veranstalter:\n Gitarrenverein Nordrach\n Termin:\n Beginn: 08
 .11.2026\, 18:00 Uhr\n Ende: 08.11.2026\n Tickets:\n Tickets\n https://www
 .gitarrenverein-nordrach.de\n 8\,00 €\n Link:\n Zur Detailseite
DTSTART;TZID=Europe/Berlin:20261108T180000
DTEND;TZID=Europe/Berlin:20261108T210000
LOCATION:Hansjakob-Halle\, Im Dorf 29\, 77787 Nordrach
SUMMARY:Jahreskonzert  des Nordracher Gitarrenvereins.\, Hansjakob-Halle
X-ALT-DESC;FMTTYPE=text/html:<strong>Kurzbeschreibung:</strong><br/>Von Sch
 lager über Pop und Rock bis hin zum Musikklassiker. Samstag 19:30 und Sonn
 tag 18:00 Uhr. Kartenvorverkauf: www.gitarrenverein-nordrach.de. <br /><st
 rong>Ort:</strong><br/>Hansjakob-Halle<br/>Im Dorf 29\, 77787 Nordrach<br 
 /><strong>Veranstalter:</strong><br/>Gitarrenverein Nordrach<br /><strong>
 Termin:</strong><br/>Beginn: 08.11.2026\, 18:00 Uhr<br/>Ende: 08.11.2026<b
 r /><strong>Tickets: </strong><br/><a  class='wco_cb_subtitle_link'  id='t
 icketlink'  href='https://www.gitarrenverein-nordrach.de' target='_blank' 
 >Tickets</a><br/>https://www.gitarrenverein-nordrach.de<br/>8\,00 €<br /><
 strong>Link:</strong><br/><a href='https://ok.edith-webco.de/de/veranstalt
 ungen/detail/veranstaltung/id/582802-jahreskonzert-des-nordracher-gitarren
 vereins/?vt=1'>Zur Detailseite</a>
END:VEVENT
END:VCALENDAR
