BEGIN:VCALENDAR
VERSION:2.0
PRODID:-//ok.edith-webco.de//NONSGML kigkonsult.se iCalcreator 2.41.92//
CALSCALE:GREGORIAN
METHOD:PUBLISH
UID:64363836-3731-4138-b166-333235616136
X-WR-TIMEZONE:Europe/Berlin
X-LIC-LOCATION:Europe/Berlin
BEGIN:VEVENT
UID:583048-kulturportal@ok.edith-webco.de
DTSTAMP:20260425T103416Z
DESCRIPTION:Kurzbeschreibung:\n The PINK FLOYD Project – authentische Pink-
 Floyd-Klangwelten\, große Emotionen\, beeindruckende Show.\n Ort:\n Rencht
 alhalle Oberkirch-Stadelhofen\n Industriestraße 5\, 77704 Oberkirch\n Vera
 nstalter:\n Stadt Oberkirch\n Termin:\n Beginn: 03.10.2026\, 20:00 Uhr\n E
 nde: 03.10.2026\n Tickets:\n Tickets kaufen\n https://ortenaukultur.reserv
 ix.de/p/reservix/event/2480944\n Preis:\n 30\,00 €\n *Preise inkl. MwSt.\n
  \n Link:\n Zur Detailseite
DTSTART;TZID=Europe/Berlin:20261003T200000
DTEND;TZID=Europe/Berlin:20261003T230000
LOCATION:Renchtalhalle Oberkirch-Stadelhofen\, Industriestraße 5\, 77704 Ob
 erkirch
SUMMARY:The PINK FLOYD Project\, Renchtalhalle Oberkirch-Stadelhofen
X-ALT-DESC;FMTTYPE=text/html:<strong>Kurzbeschreibung:</strong><br/>The PIN
 K FLOYD Project – authentische Pink-Floyd-Klangwelten\, große Emotionen\, 
 beeindruckende Show.<br /><strong>Ort:</strong><br/>Renchtalhalle Oberkirc
 h-Stadelhofen<br/>Industriestraße 5\, 77704 Oberkirch<br /><strong>Veranst
 alter:</strong><br/>Stadt Oberkirch<br /><strong>Termin:</strong><br/>Begi
 nn: 03.10.2026\, 20:00 Uhr<br/>Ende: 03.10.2026<br /><strong>Tickets: </st
 rong><br/><a rel='asdf' href='https://ok.edith-webco.de/de/detail/tickets/
 id/583048-the-pink-floyd-project/?follow=https%253A%252F%252Fortenaukultur
 .reservix.de%252Fp%252Freservix%252Fevent%252F2480944' target='_blank' tit
 le='' id='ticketlink'>Tickets kaufen</a><br/>https://ortenaukultur.reservi
 x.de/p/reservix/event/2480944<br/><b>Preis: </b><br />30\,00 &euro\;<br />
 *Preise inkl. MwSt.<br /><br /><strong>Link:</strong><br/><a href='https:/
 /ok.edith-webco.de/de/veranstaltungen/detail/veranstaltung/id/583048-the-p
 ink-floyd-project/?vt=1'>Zur Detailseite</a>
END:VEVENT
END:VCALENDAR
