BEGIN:VCALENDAR
VERSION:2.0
PRODID:-//ok.edith-webco.de//NONSGML kigkonsult.se iCalcreator 2.41.92//
CALSCALE:GREGORIAN
METHOD:PUBLISH
UID:64313866-3062-4433-a638-323936373736
X-WR-TIMEZONE:Europe/Berlin
X-LIC-LOCATION:Europe/Berlin
BEGIN:VEVENT
UID:585117-kulturportal@ok.edith-webco.de
DTSTAMP:20260425T151407Z
DESCRIPTION:Kurzbeschreibung:\n Grobschnitt kommen zum 55-jährigen Bandjubi
 läum nach Offenburg in die Reithalle\n Ort:\n Reithalle im Kulturforum\n M
 oltkestraße 31\, 77654 Offenburg\n Veranstalter:\n Kulturbüro Offenburg\n 
 Termin:\n Beginn: 14.11.2026\, 20:00 Uhr\n Ende: 14.11.2026\n Tickets:\n T
 ickets kaufen\n https://ortenaukultur.reservix.de/p/reservix/event/2498751
 \n 1. Kategorie:\n bis 41\,70 € + Ermäßigung\n *Preise inkl. MwSt.\n \n Li
 nk:\n Zur Detailseite
DTSTART;TZID=Europe/Berlin:20261114T200000
DTEND;TZID=Europe/Berlin:20261114T230000
LOCATION:Reithalle im Kulturforum\, Moltkestraße 31\, 77654 Offenburg
SUMMARY:Grobschnitt\, Reithalle im Kulturforum
X-ALT-DESC;FMTTYPE=text/html:<strong>Kurzbeschreibung:</strong><br/>Grobsch
 nitt kommen zum 55-jährigen Bandjubiläum nach Offenburg in die Reithalle<b
 r /><strong>Ort:</strong><br/>Reithalle im Kulturforum<br/>Moltkestraße 31
 \, 77654 Offenburg<br /><strong>Veranstalter:</strong><br/>Kulturbüro Offe
 nburg<br /><strong>Termin:</strong><br/>Beginn: 14.11.2026\, 20:00 Uhr<br/
 >Ende: 14.11.2026<br /><strong>Tickets: </strong><br/><a rel='asdf' href='
 https://ok.edith-webco.de/de/detail/tickets/id/585117-grobschnitt/?follow=
 https%253A%252F%252Fortenaukultur.reservix.de%252Fp%252Freservix%252Fevent
 %252F2498751' target='_blank' title='' id='ticketlink'>Tickets kaufen</a><
 br/>https://ortenaukultur.reservix.de/p/reservix/event/2498751<br/><b>1. K
 ategorie: </b><br />bis 41\,70 &euro\;&nbsp\; + Ermäßigung<br />*Preise in
 kl. MwSt.<br /><br /><strong>Link:</strong><br/><a href='https://ok.edith-
 webco.de/de/veranstaltungen/detail/veranstaltung/id/585117-grobschnitt/?vt
 =1'>Zur Detailseite</a>
END:VEVENT
END:VCALENDAR
