BEGIN:VCALENDAR
VERSION:2.0
PRODID:-//ok.edith-webco.de//NONSGML kigkonsult.se iCalcreator 2.41.92//
CALSCALE:GREGORIAN
METHOD:PUBLISH
UID:34343363-3933-4331-b938-313236636535
X-WR-TIMEZONE:Europe/Berlin
X-LIC-LOCATION:Europe/Berlin
BEGIN:VEVENT
UID:585141-kulturportal@ok.edith-webco.de
DTSTAMP:20260425T165643Z
DESCRIPTION:Kurzbeschreibung:\n Laura Galstyan spielt in der Stadthalle Stü
 cke von Rachmaninow und Chopin\n Ort:\n Stadthalle am Nollen\n Nollenstr. 
 15\, 77723 Gengenbach\n Veranstalter:\n Weltklassik am Klavier\n Termin:\n
  Beginn: 04.10.2026\, 17:00 Uhr\n Ende: 04.10.2026\n Tickets:\n www.weltkl
 assik.de\n https://www.weltklassik.de\n Link:\n Zur Detailseite
DTSTART;TZID=Europe/Berlin:20261004T170000
DTEND;TZID=Europe/Berlin:20261004T200000
LOCATION:Stadthalle am Nollen\, Nollenstr. 15\, 77723 Gengenbach
SUMMARY:Weltklassik am Klavier - Das zeitlose Erbe - Barock trifft Romantik
 : Rachmaninow und Chopin!\, Stadthalle am Nollen
X-ALT-DESC;FMTTYPE=text/html:<strong>Kurzbeschreibung:</strong><br/>Laura G
 alstyan spielt in der Stadthalle Stücke von Rachmaninow und Chopin<br /><s
 trong>Ort:</strong><br/>Stadthalle am Nollen<br/>Nollenstr. 15\, 77723 Gen
 genbach<br /><strong>Veranstalter:</strong><br/>Weltklassik am Klavier<br 
 /><strong>Termin:</strong><br/>Beginn: 04.10.2026\, 17:00 Uhr<br/>Ende: 04
 .10.2026<br /><strong>Tickets: </strong><br/><a  class='wco_cb_subtitle_li
 nk'  id='ticketlink'  href='https://www.weltklassik.de' target='_blank' ti
 tle='Öffnet externen Link in einem neuen Fenster'>www.weltklassik.de</a><b
 r/>https://www.weltklassik.de<br /><strong>Link:</strong><br/><a href='htt
 ps://ok.edith-webco.de/de/veranstaltungen/detail/veranstaltung/id/585141-w
 eltklassik-am-klavier-das-zeitlose-erbe-barock-trifft-romantik-rachmaninow
 -und-chopin/?vt=1'>Zur Detailseite</a>
END:VEVENT
END:VCALENDAR
