BEGIN:VCALENDAR
VERSION:2.0
PRODID:-//ok.edith-webco.de//NONSGML kigkonsult.se iCalcreator 2.41.92//
CALSCALE:GREGORIAN
METHOD:PUBLISH
UID:64343432-3735-4039-b361-663330353039
X-WR-TIMEZONE:Europe/Berlin
X-LIC-LOCATION:Europe/Berlin
BEGIN:VEVENT
UID:585143-kulturportal@ok.edith-webco.de
DTSTAMP:20260425T125911Z
DESCRIPTION:Kurzbeschreibung:\n Jeyu Lee spielt in der Stadthalle Stücke vo
 n Scarlatti\, Debussy\, Prokofjew\, Franck und Beethoven\n Ort:\n Stadthal
 le am Nollen\n Nollenstr. 15\, 77723 Gengenbach\n Veranstalter:\n Weltklas
 sik am Klavier\n Termin:\n Beginn: 06.12.2026\, 17:00 Uhr\n Ende: 06.12.20
 26\n Tickets:\n www.weltklassik.de\n https://www.weltklassik.de\n Link:\n 
 Zur Detailseite
DTSTART;TZID=Europe/Berlin:20261206T170000
DTEND;TZID=Europe/Berlin:20261206T200000
LOCATION:Stadthalle am Nollen\, Nollenstr. 15\, 77723 Gengenbach
SUMMARY:Weltklassik am Klavier - Beethoven Hammerklaviersonate\, Franck\, D
 ebussy\, Prokofiew\, Scarlatti!\, Stadthalle am Nollen
X-ALT-DESC;FMTTYPE=text/html:<strong>Kurzbeschreibung:</strong><br/>Jeyu Le
 e spielt in der Stadthalle Stücke von Scarlatti\, Debussy\, Prokofjew\, Fr
 anck und Beethoven<br /><strong>Ort:</strong><br/>Stadthalle am Nollen<br/
 >Nollenstr. 15\, 77723 Gengenbach<br /><strong>Veranstalter:</strong><br/>
 Weltklassik am Klavier<br /><strong>Termin:</strong><br/>Beginn: 06.12.202
 6\, 17:00 Uhr<br/>Ende: 06.12.2026<br /><strong>Tickets: </strong><br/><a 
  class='wco_cb_subtitle_link'  id='ticketlink'  href='https://www.weltklas
 sik.de' target='_blank' title='Öffnet externen Link in einem neuen Fenster
 '>www.weltklassik.de</a><br/>https://www.weltklassik.de<br /><strong>Link:
 </strong><br/><a href='https://ok.edith-webco.de/de/veranstaltungen/detail
 /veranstaltung/id/585143-weltklassik-am-klavier-beethoven-hammerklavierson
 ate-franck-debussy-prokofiew-scarlatti/?vt=1'>Zur Detailseite</a>
END:VEVENT
END:VCALENDAR
