BEGIN:VCALENDAR
VERSION:2.0
PRODID:-//ok.edith-webco.de//NONSGML kigkonsult.se iCalcreator 2.41.92//
CALSCALE:GREGORIAN
METHOD:PUBLISH
UID:32613062-6533-4136-b638-663762356234
X-WR-TIMEZONE:Europe/Berlin
X-LIC-LOCATION:Europe/Berlin
BEGIN:VEVENT
UID:585202-kulturportal@ok.edith-webco.de
DTSTAMP:20260425T235026Z
DESCRIPTION:Kurzbeschreibung:\n Eröffnungskonzerte mit Werken von Mendelsso
 hn-Bartholdy\, Mozart und Mussorgsky\n Ort:\n Platz der Verfassungsfreunde
  / Kulturforum\n Aenne-Burda-Allee\, 77654 Offenburg\n Veranstalter:\n Kul
 turbüro Offenburg\n Termin:\n Beginn: 17.07.2026\, 20:00 Uhr\n Ende: 17.07
 .2026\n Tickets:\n Tickets kaufen\n https://ortenaukultur.reservix.de/p/re
 servix/event/2491504\n 1. Kategorie:\n bis 42\,80 € + Ermäßigung\n 2. Kate
 gorie:\n bis 38\,40 € + Ermäßigung\n 3. Kategorie:\n bis 34\,00 € + Ermäßi
 gung\n *Preise inkl. MwSt.\n \n Link:\n Zur Detailseite
DTSTART;TZID=Europe/Berlin:20260717T200000
DTEND;TZID=Europe/Berlin:20260717T230000
LOCATION:Platz der Verfassungsfreunde / Kulturforum\, Aenne-Burda-Allee\, 7
 7654 Offenburg
SUMMARY:Philharmonie am Forum\, Platz der Verfassungsfreunde / Kulturforum
X-ALT-DESC;FMTTYPE=text/html:<strong>Kurzbeschreibung:</strong><br/>Eröffnu
 ngskonzerte mit Werken von Mendelssohn-Bartholdy\, Mozart und Mussorgsky<b
 r /><strong>Ort:</strong><br/>Platz der Verfassungsfreunde / Kulturforum<b
 r/>Aenne-Burda-Allee\, 77654 Offenburg<br /><strong>Veranstalter:</strong>
 <br/>Kulturbüro Offenburg<br /><strong>Termin:</strong><br/>Beginn: 17.07.
 2026\, 20:00 Uhr<br/>Ende: 17.07.2026<br /><strong>Tickets: </strong><br/>
 <a rel='asdf' href='https://ok.edith-webco.de/de/detail/tickets/id/585202-
 philharmonie-am-forum/?follow=https%253A%252F%252Fortenaukultur.reservix.d
 e%252Fp%252Freservix%252Fevent%252F2491504' target='_blank' title='' id='t
 icketlink'>Tickets kaufen</a><br/>https://ortenaukultur.reservix.de/p/rese
 rvix/event/2491504<br/><b>1. Kategorie: </b><br />bis 42\,80 &euro\;&nbsp\
 ; + Ermäßigung<br /><b>2. Kategorie: </b><br />bis 38\,40 &euro\;&nbsp\; +
  Ermäßigung<br /><b>3. Kategorie: </b><br />bis 34\,00 &euro\;&nbsp\; + Er
 mäßigung<br />*Preise inkl. MwSt.<br /><br /><strong>Link:</strong><br/><a
  href='https://ok.edith-webco.de/de/veranstaltungen/detail/veranstaltung/i
 d/585202-philharmonie-am-forum/?vt=1'>Zur Detailseite</a>
END:VEVENT
END:VCALENDAR
