BEGIN:VCALENDAR
VERSION:2.0
PRODID:-//ok.edith-webco.de//NONSGML kigkonsult.se iCalcreator 2.41.92//
CALSCALE:GREGORIAN
METHOD:PUBLISH
UID:63313634-3339-4634-b334-643536646337
X-WR-TIMEZONE:Europe/Berlin
X-LIC-LOCATION:Europe/Berlin
BEGIN:VEVENT
UID:585204-kulturportal@ok.edith-webco.de
DTSTAMP:20260425T150216Z
DESCRIPTION:Kurzbeschreibung:\n Tanzshow mit einer Fusion aus Hip-Hop\, Bre
 akdance\, Akrobatik\, Afro und mehr\n Ort:\n Platz der Verfassungsfreunde 
 / Kulturforum\n Aenne-Burda-Allee\, 77654 Offenburg\n Veranstalter:\n Kult
 urbüro Offenburg\n Termin:\n Beginn: 19.07.2026\, 20:00 Uhr\n Ende: 19.07.
 2026\n Tickets:\n Tickets kaufen\n https://ortenaukultur.reservix.de/p/res
 ervix/event/2491550\n 1. Kategorie:\n bis 42\,80 € + Ermäßigung\n 2. Kateg
 orie:\n bis 38\,40 € + Ermäßigung\n 3. Kategorie:\n bis 34\,00 € + Ermäßig
 ung\n *Preise inkl. MwSt.\n \n Link:\n Zur Detailseite
DTSTART;TZID=Europe/Berlin:20260719T200000
DTEND;TZID=Europe/Berlin:20260719T230000
LOCATION:Platz der Verfassungsfreunde / Kulturforum\, Aenne-Burda-Allee\, 7
 7654 Offenburg
SUMMARY:The School\, Platz der Verfassungsfreunde / Kulturforum
X-ALT-DESC;FMTTYPE=text/html:<strong>Kurzbeschreibung:</strong><br/>Tanzsho
 w mit einer Fusion aus Hip-Hop\, Breakdance\, Akrobatik\, Afro und mehr   
                      \n<br /><strong>Ort:</strong><br/>Platz der Verfassun
 gsfreunde / Kulturforum<br/>Aenne-Burda-Allee\, 77654 Offenburg<br /><stro
 ng>Veranstalter:</strong><br/>Kulturbüro Offenburg<br /><strong>Termin:</s
 trong><br/>Beginn: 19.07.2026\, 20:00 Uhr<br/>Ende: 19.07.2026<br /><stron
 g>Tickets: </strong><br/><a rel='asdf' href='https://ok.edith-webco.de/de/
 detail/tickets/id/585204-the-school/?follow=https%253A%252F%252Fortenaukul
 tur.reservix.de%252Fp%252Freservix%252Fevent%252F2491550' target='_blank' 
 title='' id='ticketlink'>Tickets kaufen</a><br/>https://ortenaukultur.rese
 rvix.de/p/reservix/event/2491550<br/><b>1. Kategorie: </b><br />bis 42\,80
  &euro\;&nbsp\; + Ermäßigung<br /><b>2. Kategorie: </b><br />bis 38\,40 &e
 uro\;&nbsp\; + Ermäßigung<br /><b>3. Kategorie: </b><br />bis 34\,00 &euro
 \;&nbsp\; + Ermäßigung<br />*Preise inkl. MwSt.<br /><br /><strong>Link:</
 strong><br/><a href='https://ok.edith-webco.de/de/veranstaltungen/detail/v
 eranstaltung/id/585204-the-school/?vt=1'>Zur Detailseite</a>
END:VEVENT
END:VCALENDAR
