BEGIN:VCALENDAR
VERSION:2.0
PRODID:-//ok.edith-webco.de//NONSGML kigkonsult.se iCalcreator 2.41.92//
CALSCALE:GREGORIAN
METHOD:PUBLISH
UID:37623637-6665-4931-b763-343831643334
X-WR-TIMEZONE:Europe/Berlin
X-LIC-LOCATION:Europe/Berlin
BEGIN:VEVENT
UID:585323-kulturportal@ok.edith-webco.de
DTSTAMP:20260425T133254Z
DESCRIPTION:Kurzbeschreibung:\n Klassiker des Blues & Boogie Woogie. Thomas
  Scheytt gilt als einer der besten zeitgenössischen Boogie- und Blues Pian
 isten\n Ort:\n Bürgersaal im Rathaus Ettenheim\n Rohanstr. 16\, 77955 Ette
 nheim\n Veranstalter:\n Thomas Scheytt\n Termin:\n Beginn: 30.10.2026\, 19
 :00 Uhr\n Ende: 30.10.2026\n Tickets:\n Abendkasse: 20\,- Euro / Reservier
 ung unter www.thomas-scheytt.de\n Vorverkauf: 18\,- € / Buchhandlung Machl
 eid\, Rohanstr. 7\, 77955 Ettenheim\n \n Link:\n Zur Detailseite
DTSTART;TZID=Europe/Berlin:20261030T190000
DTEND;TZID=Europe/Berlin:20261030T220000
LOCATION:Bürgersaal im Rathaus Ettenheim\, Rohanstr. 16\, 77955 Ettenheim
SUMMARY:Thomas Scheytt - Piano Solo\, Bürgersaal im Rathaus Ettenheim
X-ALT-DESC;FMTTYPE=text/html:<strong>Kurzbeschreibung:</strong><br/>Klassik
 er des Blues & Boogie Woogie. Thomas Scheytt gilt als einer der besten zei
 tgenössischen Boogie- und Blues Pianisten<br /><strong>Ort:</strong><br/>B
 ürgersaal im Rathaus Ettenheim<br/>Rohanstr. 16\, 77955 Ettenheim<br /><st
 rong>Veranstalter:</strong><br/>Thomas Scheytt<br /><strong>Termin:</stron
 g><br/>Beginn: 30.10.2026\, 19:00 Uhr<br/>Ende: 30.10.2026<br /><strong>Ti
 ckets: </strong><br/>Abendkasse: 20\,- Euro / Reservierung unter www.thoma
 s-scheytt.de<br />\nVorverkauf:  18\,- € / Buchhandlung Machleid\, Rohanst
 r. 7\, 77955 Ettenheim<br />\n<br /><strong>Link:</strong><br/><a href='ht
 tps://ok.edith-webco.de/de/veranstaltungen/detail/veranstaltung/id/585323-
 thomas-scheytt-piano-solo/?vt=1'>Zur Detailseite</a>
END:VEVENT
END:VCALENDAR
