BEGIN:VCALENDAR
VERSION:2.0
PRODID:-//ok.edith-webco.de//NONSGML kigkonsult.se iCalcreator 2.41.92//
CALSCALE:GREGORIAN
METHOD:PUBLISH
UID:66623935-3231-4366-a566-653463663730
X-WR-TIMEZONE:Europe/Berlin
X-LIC-LOCATION:Europe/Berlin
BEGIN:VEVENT
UID:585326-kulturportal@ok.edith-webco.de
DTSTAMP:20260425T114311Z
DESCRIPTION:Kurzbeschreibung:\n Bei der Breisgau-Spritztour entdecken Sie d
 ie ganze Vielfalt der Breisgauer Weine und Sekte – mit und ohne Alkohol un
 d genau dort\, wo sie heranreifen.\n Ort:\n Verschiedene Weingüter\, Lahr
 \n Veranstalter:\n Breisgauer Wein GmbH\n Termin:\n Beginn: 21.06.2026\, 1
 1:00 Uhr\n Ende: 21.06.2026\n Tickets:\n Infos und Buchungsmöglichkeiten f
 olgen in Kürze\n Link:\n Zur Detailseite
DTSTART;TZID=Europe/Berlin:20260621T110000
DTEND;TZID=Europe/Berlin:20260621T140000
LOCATION:Verschiedene Weingüter\, Lahr
SUMMARY:Herzlich willkommen zum Weinfest auf Rädern - Breisgau Spritztour!\
 , Verschiedene Weingüter
X-ALT-DESC;FMTTYPE=text/html:<strong>Kurzbeschreibung:</strong><br/>Bei der
  Breisgau-Spritztour entdecken Sie die ganze Vielfalt der Breisgauer Weine
  und Sekte – mit und ohne Alkohol und genau dort\, wo sie heranreifen.<br 
 /><strong>Ort:</strong><br/>Verschiedene Weingüter\, Lahr<br /><strong>Ver
 anstalter:</strong><br/>Breisgauer Wein GmbH<br /><strong>Termin:</strong>
 <br/>Beginn: 21.06.2026\, 11:00 Uhr<br/>Ende: 21.06.2026<br /><strong>Tick
 ets: </strong><br/>Infos und Buchungsmöglichkeiten folgen in Kürze<br /><s
 trong>Link:</strong><br/><a href='https://ok.edith-webco.de/de/veranstaltu
 ngen/detail/veranstaltung/id/585326-herzlich-willkommen-zum-weinfest-auf-r
 aedern-breisgau-spritztour/?vt=1'>Zur Detailseite</a>
END:VEVENT
END:VCALENDAR
