BEGIN:VCALENDAR
VERSION:2.0
PRODID:-//ok.edith-webco.de//NONSGML kigkonsult.se iCalcreator 2.41.92//
CALSCALE:GREGORIAN
METHOD:PUBLISH
UID:36323063-3335-4361-b537-623362336233
X-WR-TIMEZONE:Europe/Berlin
X-LIC-LOCATION:Europe/Berlin
BEGIN:VEVENT
UID:585350-kulturportal@ok.edith-webco.de
DTSTAMP:20260425T021026Z
DESCRIPTION:Kurzbeschreibung:\n „Der Fall Moriarty“ ist die wahrscheinlich 
 ungewöhnlichste und witzigste Sherlock Holmes-Story aller Zeiten.\n Ort:\n
  Parktheater\n Kaiserstraße 107\, 77933 Lahr\n Veranstalter:\n LahrKultur
 \n Termin:\n Beginn: 23.04.2027\, 20:00 Uhr\n Ende: 23.04.2027\n Tickets:
 \n Tickets kaufen\n https://ortenaukultur.reservix.de/p/reservix/event/254
 2334\n 1. Platz:\n bis 31\,80 € + Ermäßigung\n 2. Platz:\n bis 28\,50 € + 
 Ermäßigung\n 3. Platz:\n bis 23\,00 € + Ermäßigung\n 4. Platz:\n bis 15\,3
 0 € + Ermäßigung\n *Preise inkl. MwSt.\n \n Link:\n Zur Detailseite
DTSTART;TZID=Europe/Berlin:20270423T200000
DTEND;TZID=Europe/Berlin:20270423T230000
LOCATION:Parktheater\, Kaiserstraße 107\, 77933 Lahr
SUMMARY:Sherlock Holmes - Der Fall Moriarty\, Parktheater
X-ALT-DESC;FMTTYPE=text/html:<strong>Kurzbeschreibung:</strong><br/>„Der Fa
 ll Moriarty“ ist die wahrscheinlich ungewöhnlichste und witzigste Sherlock
  Holmes-Story aller Zeiten.<br /><strong>Ort:</strong><br/>Parktheater<br/
 >Kaiserstraße 107\, 77933 Lahr<br /><strong>Veranstalter:</strong><br/>Lah
 rKultur<br /><strong>Termin:</strong><br/>Beginn: 23.04.2027\, 20:00 Uhr<b
 r/>Ende: 23.04.2027<br /><strong>Tickets: </strong><br/><a rel='asdf' href
 ='https://ok.edith-webco.de/de/detail/tickets/id/585350-sherlock-holmes-de
 r-fall-moriarty/?follow=https%253A%252F%252Fortenaukultur.reservix.de%252F
 p%252Freservix%252Fevent%252F2542334' target='_blank' title='' id='ticketl
 ink'>Tickets kaufen</a><br/>https://ortenaukultur.reservix.de/p/reservix/e
 vent/2542334<br/><b>1. Platz: </b><br />bis 31\,80 &euro\;&nbsp\; + Ermäßi
 gung<br /><b>2. Platz: </b><br />bis 28\,50 &euro\;&nbsp\; + Ermäßigung<br
  /><b>3. Platz: </b><br />bis 23\,00 &euro\;&nbsp\; + Ermäßigung<br /><b>4
 . Platz: </b><br />bis 15\,30 &euro\;&nbsp\; + Ermäßigung<br />*Preise ink
 l. MwSt.<br /><br /><strong>Link:</strong><br/><a href='https://ok.edith-w
 ebco.de/de/veranstaltungen/detail/veranstaltung/id/585350-sherlock-holmes-
 der-fall-moriarty/?vt=1'>Zur Detailseite</a>
END:VEVENT
END:VCALENDAR
