BEGIN:VCALENDAR
VERSION:2.0
PRODID:-//ok.edith-webco.de//NONSGML kigkonsult.se iCalcreator 2.41.92//
CALSCALE:GREGORIAN
METHOD:PUBLISH
UID:66366661-6232-4265-a432-613935383063
X-WR-TIMEZONE:Europe/Berlin
X-LIC-LOCATION:Europe/Berlin
BEGIN:VEVENT
UID:585385-kulturportal@ok.edith-webco.de
DTSTAMP:20260425T134809Z
DESCRIPTION:Kurzbeschreibung:\n Während eines Stadtrundgangs wird ein 4 Gän
 ge-Menü bei der örtlichen Gastronomie genossen\n Ort:\n Innenstadt von Opp
 enau\, Oppenau\n Veranstalter:\n Renchtal Tourismus GmbH\n Termin:\n Begin
 n: 06.08.2026\, 17:30 Uhr\n Ende: 06.08.2026\n Tickets:\n 63.-€ pro Person
 \n Link:\n Zur Detailseite
DTSTART;TZID=Europe/Berlin:20260806T173000
DTEND;TZID=Europe/Berlin:20260806T203000
LOCATION:Innenstadt von Oppenau\, Oppenau
SUMMARY:Oppenauer Städtle-Hopser \, Innenstadt von Oppenau
X-ALT-DESC;FMTTYPE=text/html:<strong>Kurzbeschreibung:</strong><br/>Während
  eines Stadtrundgangs wird ein 4 Gänge-Menü bei der örtlichen Gastronomie 
 genossen<br /><strong>Ort:</strong><br/>Innenstadt von Oppenau\, Oppenau<b
 r /><strong>Veranstalter:</strong><br/>Renchtal Tourismus GmbH<br /><stron
 g>Termin:</strong><br/>Beginn: 06.08.2026\, 17:30 Uhr<br/>Ende: 06.08.2026
 <br /><strong>Tickets: </strong><br/>63.-€ pro Person<br /><strong>Link:</
 strong><br/><a href='https://ok.edith-webco.de/de/veranstaltungen/detail/v
 eranstaltung/id/585385-oppenauer-staedtle-hopser/?vt=1'>Zur Detailseite</a
 >
END:VEVENT
END:VCALENDAR
