BEGIN:VCALENDAR
VERSION:2.0
PRODID:-//ok.edith-webco.de//NONSGML kigkonsult.se iCalcreator 2.41.92//
CALSCALE:GREGORIAN
METHOD:PUBLISH
UID:66373832-6366-4533-b038-663361646362
X-WR-TIMEZONE:Europe/Berlin
X-LIC-LOCATION:Europe/Berlin
BEGIN:VEVENT
UID:585453-kulturportal@ok.edith-webco.de
DTSTAMP:20260425T194749Z
DESCRIPTION:Kurzbeschreibung:\n Jubiläumskonzert mit dem Baden-Symphonie-Or
 chester und dem Landespolizeiorchester Baden-Württemberg\n Ort:\n Marktpla
 tz\n Hauptstraße\, 77704 Oberkirch\n Veranstalter:\n Stadt Oberkirch\n Ter
 min:\n Beginn: 15.05.2026\, 20:00 Uhr\n Ende: 15.05.2026\n Tickets:\n Tick
 ets kaufen\n https://ortenaukultur.reservix.de/p/reservix/event/2500939\n 
 Sitzplatz:\n Stehplatz:\n 28\,00 €\n *Preise inkl. MwSt.\n \n Link:\n Zur 
 Detailseite
DTSTART;TZID=Europe/Berlin:20260515T200000
DTEND;TZID=Europe/Berlin:20260515T230000
LOCATION:Marktplatz\, Hauptstraße\, 77704 Oberkirch
SUMMARY:Jubiläumskonzert 25 Jahre piano.vocal \, Marktplatz
X-ALT-DESC;FMTTYPE=text/html:<strong>Kurzbeschreibung:</strong><br/>Jubiläu
 mskonzert mit dem Baden-Symphonie-Orchester und dem Landespolizeiorchester
  Baden-Württemberg<br /><strong>Ort:</strong><br/>Marktplatz<br/>Hauptstra
 ße\, 77704 Oberkirch<br /><strong>Veranstalter:</strong><br/>Stadt Oberkir
 ch<br /><strong>Termin:</strong><br/>Beginn: 15.05.2026\, 20:00 Uhr<br/>En
 de: 15.05.2026<br /><strong>Tickets: </strong><br/><a rel='asdf' href='htt
 ps://ok.edith-webco.de/de/detail/tickets/id/585453-jubilaeumskonzert-25-ja
 hre-piano-vocal/?follow=https%253A%252F%252Fortenaukultur.reservix.de%252F
 p%252Freservix%252Fevent%252F2500939' target='_blank' title='' id='ticketl
 ink'>Tickets kaufen</a><br/>https://ortenaukultur.reservix.de/p/reservix/e
 vent/2500939<br/><b>Sitzplatz: </b><br /><b>Stehplatz: </b><br />28\,00 &e
 uro\;<br />*Preise inkl. MwSt.<br /><br /><strong>Link:</strong><br/><a hr
 ef='https://ok.edith-webco.de/de/veranstaltungen/detail/veranstaltung/id/5
 85453-jubilaeumskonzert-25-jahre-piano-vocal/?vt=1'>Zur Detailseite</a>
END:VEVENT
END:VCALENDAR
