BEGIN:VCALENDAR
VERSION:2.0
PRODID:-//ok.edith-webco.de//NONSGML kigkonsult.se iCalcreator 2.41.92//
CALSCALE:GREGORIAN
METHOD:PUBLISH
UID:39383762-3161-4663-b265-363965333138
X-WR-TIMEZONE:Europe/Berlin
X-LIC-LOCATION:Europe/Berlin
BEGIN:VEVENT
UID:585455-kulturportal@ok.edith-webco.de
DTSTAMP:20260425T194009Z
DESCRIPTION:Kurzbeschreibung:\n Bachfest in malerischer Stimmung in der his
 torischen Bachanlage in Oberkirch\n Ort:\n Bachanlage/Innenstadt\, Oberkir
 ch\n Veranstalter:\n Stabhalterei Walachei e.V.\n Termin:\n Beginn: 01.08.
 2026\n Ende: 01.08.2026\n Tickets:\n Eintritt frei!\n Link:\n Zur Detailse
 ite
DTSTART;TZID=Europe/Berlin:20260801T000000
DTEND;TZID=Europe/Berlin:20260801T030000
LOCATION:Bachanlage/Innenstadt\, Oberkirch
SUMMARY:Bachfest Oberkirch\, Bachanlage/Innenstadt
X-ALT-DESC;FMTTYPE=text/html:<strong>Kurzbeschreibung:</strong><br/>Bachfes
 t in malerischer Stimmung in der historischen Bachanlage in Oberkirch<br /
 ><strong>Ort:</strong><br/>Bachanlage/Innenstadt\, Oberkirch<br /><strong>
 Veranstalter:</strong><br/>Stabhalterei Walachei e.V.<br /><strong>Termin:
 </strong><br/>Beginn: 01.08.2026<br/>Ende: 01.08.2026<br /><strong>Tickets
 : </strong><br/>Eintritt frei!<br /><strong>Link:</strong><br/><a href='ht
 tps://ok.edith-webco.de/de/veranstaltungen/detail/veranstaltung/id/585455-
 bachfest-oberkirch/?vt=1'>Zur Detailseite</a>
END:VEVENT
END:VCALENDAR
