BEGIN:VCALENDAR
VERSION:2.0
PRODID:-//ok.edith-webco.de//NONSGML kigkonsult.se iCalcreator 2.41.92//
CALSCALE:GREGORIAN
METHOD:PUBLISH
UID:38653462-3234-4966-b837-613132313533
X-WR-TIMEZONE:Europe/Berlin
X-LIC-LOCATION:Europe/Berlin
BEGIN:VEVENT
UID:585786-kulturportal@ok.edith-webco.de
DTSTAMP:20260425T152141Z
DESCRIPTION:Kurzbeschreibung:\n ROB NOTES steht für handgemachte Musik\, üb
 erzeugend und mitreißend und verspricht einen genussvollen Abend\n Ort:\n 
 Bürgerpark\n Im Dorf 26\, 77787 Nordrach\n Veranstalter:\n Touristen-Infor
 mation Nordrach\n Termin:\n Beginn: 12.06.2026\, 19:00 Uhr\n Ende: 12.06.2
 026\n Link:\n Zur Detailseite
DTSTART;TZID=Europe/Berlin:20260612T190000
DTEND;TZID=Europe/Berlin:20260612T220000
LOCATION:Bürgerpark\, Im Dorf 26\, 77787 Nordrach
SUMMARY:Musik im Park - 'Heimspiel' ROB NOTES\, Bürgerpark
X-ALT-DESC;FMTTYPE=text/html:<strong>Kurzbeschreibung:</strong><br/>ROB NOT
 ES steht für handgemachte Musik\, überzeugend und mitreißend und versprich
 t einen genussvollen Abend<br /><strong>Ort:</strong><br/>Bürgerpark<br/>I
 m Dorf 26\, 77787 Nordrach<br /><strong>Veranstalter:</strong><br/>Tourist
 en-Information Nordrach<br /><strong>Termin:</strong><br/>Beginn: 12.06.20
 26\, 19:00 Uhr<br/>Ende: 12.06.2026<br /><strong>Link:</strong><br/><a hre
 f='https://ok.edith-webco.de/de/veranstaltungen/detail/veranstaltung/id/58
 5786-musik-im-park-heimspiel-rob-notes/?vt=1'>Zur Detailseite</a>
END:VEVENT
END:VCALENDAR
