BEGIN:VCALENDAR
VERSION:2.0
PRODID:-//ok.edith-webco.de//NONSGML kigkonsult.se iCalcreator 2.41.92//
CALSCALE:GREGORIAN
METHOD:PUBLISH
UID:66616230-3361-4362-b737-643335616362
X-WR-TIMEZONE:Europe/Berlin
X-LIC-LOCATION:Europe/Berlin
BEGIN:VEVENT
UID:585841-kulturportal@ok.edith-webco.de
DTSTAMP:20260425T162355Z
DESCRIPTION:Kurzbeschreibung:\n Genießen Sie ein kühles Getränk\, eine leck
 ere Grillwurst und dazu Blasmusik.\n Ort:\n Vor der Kirche\n Georg-Schwend
 emann-Str.\, 77790 Steinach\n Veranstalter:\n Musikverein 'Harmonie' Stein
 ach\n Termin:\n Beginn: 12.09.2026\, 18:30 Uhr\n Ende: 12.09.2026\n Link:
 \n Zur Detailseite
DTSTART;TZID=Europe/Berlin:20260912T183000
DTEND;TZID=Europe/Berlin:20260912T213000
LOCATION:Vor der Kirche\, Georg-Schwendemann-Str.\, 77790 Steinach
SUMMARY:Musikalischer Dämmerschoppen \, Pfarrgarten
X-ALT-DESC;FMTTYPE=text/html:<strong>Kurzbeschreibung:</strong><br/>Genieße
 n Sie ein kühles Getränk\, eine leckere Grillwurst und dazu Blasmusik. <br
  /><strong>Ort:</strong><br/>Vor der Kirche<br/>Georg-Schwendemann-Str.\, 
 77790 Steinach<br /><strong>Veranstalter:</strong><br/>Musikverein 'Harmon
 ie' Steinach<br /><strong>Termin:</strong><br/>Beginn: 12.09.2026\, 18:30 
 Uhr<br/>Ende: 12.09.2026<br /><strong>Link:</strong><br/><a href='https://
 ok.edith-webco.de/de/veranstaltungen/detail/veranstaltung/id/585841-musika
 lischer-daemmerschoppen/?vt=1'>Zur Detailseite</a>
END:VEVENT
END:VCALENDAR
