BEGIN:VCALENDAR
VERSION:2.0
PRODID:-//ok.edith-webco.de//NONSGML kigkonsult.se iCalcreator 2.41.92//
CALSCALE:GREGORIAN
METHOD:PUBLISH
UID:32633838-6332-4634-b966-646232643831
X-WR-TIMEZONE:Europe/Berlin
X-LIC-LOCATION:Europe/Berlin
BEGIN:VEVENT
UID:586068-kulturportal@ok.edith-webco.de
DTSTAMP:20260425T225240Z
DESCRIPTION:Kurzbeschreibung:\n Alle Jahre wieder: Plätzchen backen\, Weihn
 achtsbaum schlagen\, Geschenke besorgen und den „Winterzauber“ von „piano.
 vocal“ besuchen.\n Ort:\n Reithalle im Kulturforum\n Moltkestraße 31\, 776
 54 Offenburg\n Veranstalter:\n Kulturbüro Offenburg\n Termin:\n Beginn: 19
 .12.2026\, 20:00 Uhr\n Ende: 19.12.2026\n Tickets:\n Tickets kaufen\n http
 s://ortenaukultur.reservix.de/p/reservix/event/2425988\n 1. Kategorie:\n b
 is 23\,00 € + Ermäßigung\n *Preise inkl. MwSt.\n \n Link:\n Zur Detailseit
 e
DTSTART;TZID=Europe/Berlin:20261219T200000
DTEND;TZID=Europe/Berlin:20261219T230000
LOCATION:Reithalle im Kulturforum\, Moltkestraße 31\, 77654 Offenburg
SUMMARY:Piano.Vocal - „Winterzauber“ von ‚piano.vocal’ & Carsten Dittrich\,
  Reithalle im Kulturforum
X-ALT-DESC;FMTTYPE=text/html:<strong>Kurzbeschreibung:</strong><br/>Alle Ja
 hre wieder: Plätzchen backen\, Weihnachtsbaum schlagen\, Geschenke besorge
 n und den „Winterzauber“ von „piano.vocal“ besuchen.<br /><strong>Ort:</st
 rong><br/>Reithalle im Kulturforum<br/>Moltkestraße 31\, 77654 Offenburg<b
 r /><strong>Veranstalter:</strong><br/>Kulturbüro Offenburg<br /><strong>T
 ermin:</strong><br/>Beginn: 19.12.2026\, 20:00 Uhr<br/>Ende: 19.12.2026<br
  /><strong>Tickets: </strong><br/><a rel='asdf' href='https://ok.edith-web
 co.de/de/detail/tickets/id/586068-piano-vocal-winterzauber-von-piano-vocal
 -carsten-dittrich/?follow=https%253A%252F%252Fortenaukultur.reservix.de%25
 2Fp%252Freservix%252Fevent%252F2425988' target='_blank' title='' id='ticke
 tlink'>Tickets kaufen</a><br/>https://ortenaukultur.reservix.de/p/reservix
 /event/2425988<br/><b>1. Kategorie: </b><br />bis 23\,00 &euro\;&nbsp\; + 
 Ermäßigung<br />*Preise inkl. MwSt.<br /><br /><strong>Link:</strong><br/>
 <a href='https://ok.edith-webco.de/de/veranstaltungen/detail/veranstaltung
 /id/586068-piano-vocal-winterzauber-von-piano-vocal-carsten-dittrich/?vt=1
 '>Zur Detailseite</a>
END:VEVENT
END:VCALENDAR
