BEGIN:VCALENDAR
VERSION:2.0
PRODID:-//ok.edith-webco.de//NONSGML kigkonsult.se iCalcreator 2.41.92//
CALSCALE:GREGORIAN
METHOD:PUBLISH
UID:63343130-6661-4635-a534-626531333631
X-WR-TIMEZONE:Europe/Berlin
X-LIC-LOCATION:Europe/Berlin
BEGIN:VEVENT
UID:586139-kulturportal@ok.edith-webco.de
DTSTAMP:20260426T021344Z
DESCRIPTION:Kurzbeschreibung:\n Auch in diesem Jahr dürfen sich die Besuche
 r auf ein abwechslungsreiches Stadtfest-Programm freuen!\n Ort:\n Innensta
 dt Oppenau: Allmendplatz\, Hauptstraße und Straßburgerstraße\, Oppenau\n V
 eranstalter:\n Orga-Team Stadtfest\n Termin:\n Beginn: 29.08.2026\n Ende: 
 29.08.2026\n Tickets:\n kein Eintritt\n Link:\n Zur Detailseite
DTSTART;VALUE=DATE:20260829
DTEND;VALUE=DATE:20260830
LOCATION:Innenstadt Oppenau: Allmendplatz\, Hauptstraße und Straßburgerstra
 ße\, Oppenau
SUMMARY:Oppenauer Stadtfest\, Innenstadt Oppenau: Allmendplatz\, Hauptstraß
 e und Straßburgerstraße
X-ALT-DESC;FMTTYPE=text/html:<strong>Kurzbeschreibung:</strong><br/>Auch in
  diesem Jahr dürfen sich die Besucher auf ein abwechslungsreiches Stadtfes
 t-Programm freuen!<br /><strong>Ort:</strong><br/>Innenstadt Oppenau: Allm
 endplatz\, Hauptstraße und Straßburgerstraße\, Oppenau<br /><strong>Verans
 talter:</strong><br/>Orga-Team Stadtfest<br /><strong>Termin:</strong><br/
 >Beginn: 29.08.2026<br/>Ende: 29.08.2026<br /><strong>Tickets: </strong><b
 r/>kein Eintritt<br /><strong>Link:</strong><br/><a href='https://ok.edith
 -webco.de/de/veranstaltungen/detail/veranstaltung/id/586139-oppenauer-stad
 tfest/?vt=1'>Zur Detailseite</a>
END:VEVENT
END:VCALENDAR
