BEGIN:VCALENDAR
VERSION:2.0
PRODID:-//ok.edith-webco.de//NONSGML kigkonsult.se iCalcreator 2.41.92//
CALSCALE:GREGORIAN
METHOD:PUBLISH
UID:34383061-3162-4266-b936-653466643235
X-WR-TIMEZONE:Europe/Berlin
X-LIC-LOCATION:Europe/Berlin
BEGIN:VEVENT
UID:586149-kulturportal@ok.edith-webco.de
DTSTAMP:20260425T123308Z
DESCRIPTION:Kurzbeschreibung:\n Die Chorgemeinschaft besteht aus dem Männer
 chor Renchtal sowie dem Gemischten Chor\, Sängerbund Oppenau.\n Ort:\n Gün
 ter-Bimmerle-Halle\n Einmatt 6\, 77728 Oppenau\n Veranstalter:\n Gemischte
 r Chor\, Sängerbund Oppenau e. V.\n Termin:\n Beginn: 24.10.2026\, 20:00 U
 hr\n Ende: 24.10.2026\n Link:\n Zur Detailseite
DTSTART;TZID=Europe/Berlin:20261024T200000
DTEND;TZID=Europe/Berlin:20261024T230000
LOCATION:Günter-Bimmerle-Halle\, Einmatt 6\, 77728 Oppenau
SUMMARY:Konzert der Chorgemeinschaft 'Neue Töne Renchtal'\, Günter-Bimmerle
 -Halle
X-ALT-DESC;FMTTYPE=text/html:<strong>Kurzbeschreibung:</strong><br/>Die Cho
 rgemeinschaft besteht aus dem Männerchor Renchtal sowie dem Gemischten Cho
 r\, Sängerbund Oppenau.<br /><strong>Ort:</strong><br/>Günter-Bimmerle-Hal
 le<br/>Einmatt 6\, 77728 Oppenau<br /><strong>Veranstalter:</strong><br/>G
 emischter Chor\, Sängerbund Oppenau e. V.<br /><strong>Termin:</strong><br
 />Beginn: 24.10.2026\, 20:00 Uhr<br/>Ende: 24.10.2026<br /><strong>Link:</
 strong><br/><a href='https://ok.edith-webco.de/de/veranstaltungen/detail/v
 eranstaltung/id/586149-konzert-der-chorgemeinschaft-neue-toene-renchtal/?v
 t=1'>Zur Detailseite</a>
END:VEVENT
END:VCALENDAR
