BEGIN:VCALENDAR
VERSION:2.0
PRODID:-//ok.edith-webco.de//NONSGML kigkonsult.se iCalcreator 2.41.92//
CALSCALE:GREGORIAN
METHOD:PUBLISH
UID:34616336-6130-4036-b263-396238396335
X-WR-TIMEZONE:Europe/Berlin
X-LIC-LOCATION:Europe/Berlin
BEGIN:VEVENT
UID:588422-kulturportal@ok.edith-webco.de
DTSTAMP:20260425T103235Z
DESCRIPTION:Kurzbeschreibung:\n Melodic House & Techno mit DJ Alpha\, DJ Ma
 r.c & The Dishwasher – All Ages!\n Ort:\n Blumenhäfele Ettenheim\n Tullast
 raße 5a\, 77955 Ettenheim\n Veranstalter:\n Amici Events\n Termin:\n Begin
 n: 23.05.2026\, 19:00 Uhr\n Ende: 23.05.2026\n Link:\n Zur Detailseite
DTSTART;TZID=Europe/Berlin:20260523T190000
DTEND;TZID=Europe/Berlin:20260523T220000
LOCATION:Blumenhäfele Ettenheim\, Tullastraße 5a\, 77955 Ettenheim
SUMMARY:Cafe Perera Night\, Blumenhäfele Ettenheim
X-ALT-DESC;FMTTYPE=text/html:<strong>Kurzbeschreibung:</strong><br/>Melodic
  House & Techno mit DJ Alpha\, DJ Mar.c & The Dishwasher – All Ages!<br />
 <strong>Ort:</strong><br/>Blumenhäfele Ettenheim<br/>Tullastraße 5a\, 7795
 5 Ettenheim<br /><strong>Veranstalter:</strong><br/>Amici Events<br /><str
 ong>Termin:</strong><br/>Beginn: 23.05.2026\, 19:00 Uhr<br/>Ende: 23.05.20
 26<br /><strong>Link:</strong><br/><a href='https://ok.edith-webco.de/de/v
 eranstaltungen/detail/veranstaltung/id/588422-cafe-perera-night/?vt=1'>Zur
  Detailseite</a>
END:VEVENT
END:VCALENDAR
