BEGIN:VCALENDAR
VERSION:2.0
PRODID:-//ok.edith-webco.de//NONSGML kigkonsult.se iCalcreator 2.41.92//
CALSCALE:GREGORIAN
METHOD:PUBLISH
UID:39616535-3031-4530-b862-326261653337
X-WR-TIMEZONE:Europe/Berlin
X-LIC-LOCATION:Europe/Berlin
BEGIN:VEVENT
UID:588433-kulturportal@ok.edith-webco.de
DTSTAMP:20260425T151457Z
DESCRIPTION:Kurzbeschreibung:\n Klangvolle Weihnachten: Die Stadtkapelle Ha
 usach stimmt musikalisch auf die Weihnachtszeit ein\n Ort:\n Stadthalle\n 
 Gustav-Rivinius-Platz 3\, 77756 Hausach\n Veranstalter:\n Stadtkapelle Hau
 sach\n Termin:\n Beginn: 17.12.2026\, 19:00 Uhr\n Ende: 17.12.2026\n Ticke
 ts:\n Eintritt frei\n Link:\n Zur Detailseite
DTSTART;TZID=Europe/Berlin:20261217T190000
DTEND;TZID=Europe/Berlin:20261217T220000
LOCATION:Stadthalle\, Gustav-Rivinius-Platz 3\, 77756 Hausach
SUMMARY:Weihnachtskonzert der Stadtkapelle\, Stadthalle
X-ALT-DESC;FMTTYPE=text/html:<strong>Kurzbeschreibung:</strong><br/>Klangvo
 lle Weihnachten: Die Stadtkapelle Hausach stimmt musikalisch auf die Weihn
 achtszeit ein<br /><strong>Ort:</strong><br/>Stadthalle<br/>Gustav-Riviniu
 s-Platz 3\, 77756 Hausach<br /><strong>Veranstalter:</strong><br/>Stadtkap
 elle Hausach<br /><strong>Termin:</strong><br/>Beginn: 17.12.2026\, 19:00 
 Uhr<br/>Ende: 17.12.2026<br /><strong>Tickets: </strong><br/>Eintritt frei
 <br /><strong>Link:</strong><br/><a href='https://ok.edith-webco.de/de/ver
 anstaltungen/detail/veranstaltung/id/588433-weihnachtskonzert-der-stadtkap
 elle/?vt=1'>Zur Detailseite</a>
END:VEVENT
END:VCALENDAR
