BEGIN:VCALENDAR
VERSION:2.0
PRODID:-//ok.edith-webco.de//NONSGML kigkonsult.se iCalcreator 2.41.92//
CALSCALE:GREGORIAN
METHOD:PUBLISH
UID:65393163-3635-4433-b736-306631626233
X-WR-TIMEZONE:Europe/Berlin
X-LIC-LOCATION:Europe/Berlin
BEGIN:VEVENT
UID:588488-kulturportal@ok.edith-webco.de
DTSTAMP:20260425T191156Z
DESCRIPTION:Kurzbeschreibung:\n Sommerfest anlässlich des 60jährigen Jubilä
 ums des Turnverein Steinach\n Ort:\n Pfarrgarten\n Georg-Schwendemann-Str.
 \, 77790 Steinach\n Veranstalter:\n Turnverein 1966 Steinach e.V.\n Termin
 :\n Beginn: 04.07.2026\, 11:00 Uhr\n Ende: 04.07.2026\n Link:\n Zur Detail
 seite
DTSTART;TZID=Europe/Berlin:20260704T110000
DTEND;TZID=Europe/Berlin:20260704T140000
LOCATION:Pfarrgarten\, Georg-Schwendemann-Str.\, 77790 Steinach
SUMMARY:60 Jahre TV Steinach\, Pfarrgarten
X-ALT-DESC;FMTTYPE=text/html:<strong>Kurzbeschreibung:</strong><br/>Sommerf
 est anlässlich des 60jährigen Jubiläums des Turnverein Steinach<br /><stro
 ng>Ort:</strong><br/>Pfarrgarten<br/>Georg-Schwendemann-Str.\, 77790 Stein
 ach<br /><strong>Veranstalter:</strong><br/>Turnverein 1966 Steinach e.V.<
 br /><strong>Termin:</strong><br/>Beginn: 04.07.2026\, 11:00 Uhr<br/>Ende:
  04.07.2026<br /><strong>Link:</strong><br/><a href='https://ok.edith-webc
 o.de/de/veranstaltungen/detail/veranstaltung/id/588488-60-jahre-tv-steinac
 h/?vt=1'>Zur Detailseite</a>
END:VEVENT
END:VCALENDAR
