BEGIN:VCALENDAR
VERSION:2.0
PRODID:-//ok.edith-webco.de//NONSGML kigkonsult.se iCalcreator 2.41.92//
CALSCALE:GREGORIAN
METHOD:PUBLISH
UID:30396131-3062-4162-b333-303439383535
X-WR-TIMEZONE:Europe/Berlin
X-LIC-LOCATION:Europe/Berlin
BEGIN:VEVENT
UID:588873-kulturportal@ok.edith-webco.de
DTSTAMP:20260425T034816Z
DESCRIPTION:Kurzbeschreibung:\n Karl-Peter Chilla: Die Orgelmaus - ein orig
 inelles Orgelkonzert für Kinder\n Ort:\n Christuskirche\n Friedhofstr. 1\,
  77694 Kehl\n Veranstalter:\n Bezirkskantorat Kehl\n Termin:\n Beginn: 21.
 07.2026\, 16:30 Uhr\n Ende: 21.07.2026\n Link:\n Zur Detailseite
DTSTART;TZID=Europe/Berlin:20260721T163000
DTEND;TZID=Europe/Berlin:20260721T193000
LOCATION:Christuskirche\, Friedhofstr. 1\, 77694 Kehl
SUMMARY:Orgelkonzert für Kinder\, Christuskirche
X-ALT-DESC;FMTTYPE=text/html:<strong>Kurzbeschreibung:</strong><br/>Karl-Pe
 ter Chilla: Die Orgelmaus - ein originelles Orgelkonzert für Kinder<br /><
 strong>Ort:</strong><br/>Christuskirche<br/>Friedhofstr. 1\, 77694 Kehl<br
  /><strong>Veranstalter:</strong><br/>Bezirkskantorat Kehl<br /><strong>Te
 rmin:</strong><br/>Beginn: 21.07.2026\, 16:30 Uhr<br/>Ende: 21.07.2026<br 
 /><strong>Link:</strong><br/><a href='https://ok.edith-webco.de/de/veranst
 altungen/detail/veranstaltung/id/588873-orgelkonzert-fuer-kinder/?vt=1'>Zu
 r Detailseite</a>
END:VEVENT
END:VCALENDAR
