BEGIN:VCALENDAR
VERSION:2.0
PRODID:-//ok.edith-webco.de//NONSGML kigkonsult.se iCalcreator 2.41.92//
CALSCALE:GREGORIAN
METHOD:PUBLISH
UID:66306662-6364-4334-b731-313631376333
X-WR-TIMEZONE:Europe/Berlin
X-LIC-LOCATION:Europe/Berlin
BEGIN:VEVENT
UID:589074-kulturportal@ok.edith-webco.de
DTSTAMP:20260425T215410Z
DESCRIPTION:Kurzbeschreibung:\n Fest anlässlich des 50jährigen Partnerschaf
 tsjubiläums mit Lay St. Christophe\n Ort:\n Turn- und Festhalle\n Schulstr
 . 1\, 77790 Steinach\n Veranstalter:\n Gemeinde Steinach\n Termin:\n Begin
 n: 14.06.2026\n Ende: 14.06.2026\n Link:\n Zur Detailseite
DTSTART;TZID=Europe/Berlin:20260614T000000
DTEND;TZID=Europe/Berlin:20260614T030000
LOCATION:Turn- und Festhalle\, Schulstr. 1\, 77790 Steinach
SUMMARY:50 Jahre deutsch-französische Partnerschaft\, Turn- und Festhalle
X-ALT-DESC;FMTTYPE=text/html:<strong>Kurzbeschreibung:</strong><br/>Fest an
 lässlich des 50jährigen Partnerschaftsjubiläums mit Lay St. Christophe<br 
 /><strong>Ort:</strong><br/>Turn- und Festhalle<br/>Schulstr. 1\, 77790 St
 einach<br /><strong>Veranstalter:</strong><br/>Gemeinde Steinach<br /><str
 ong>Termin:</strong><br/>Beginn: 14.06.2026<br/>Ende: 14.06.2026<br /><str
 ong>Link:</strong><br/><a href='https://ok.edith-webco.de/de/veranstaltung
 en/detail/veranstaltung/id/589074-50-jahre-deutsch-franzoesische-partnersc
 haft/?vt=1'>Zur Detailseite</a>
END:VEVENT
END:VCALENDAR
