BEGIN:VCALENDAR
VERSION:2.0
PRODID:-//ok.edith-webco.de//NONSGML kigkonsult.se iCalcreator 2.41.92//
CALSCALE:GREGORIAN
METHOD:PUBLISH
UID:63646639-6664-4564-a237-663237373837
X-WR-TIMEZONE:Europe/Berlin
X-LIC-LOCATION:Europe/Berlin
BEGIN:VEVENT
UID:589188-kulturportal@ok.edith-webco.de
DTSTAMP:20260425T111325Z
DESCRIPTION:Kurzbeschreibung:\n Festwochenende zum Jubiläum 800 Jahre Wallb
 urg mit abwechslungsreichem Programm\n Ort:\n Wallburg\, Ettenheim\n Veran
 stalter:\n Ortsverwaltung Wallburg\n Termin:\n Beginn: 26.09.2026\n Ende: 
 26.09.2026\n Link:\n Zur Detailseite
DTSTART;TZID=Europe/Berlin:20260926T000000
DTEND;TZID=Europe/Berlin:20260926T030000
LOCATION:Wallburg\, Ettenheim
SUMMARY:Festwochenende 800 Jahre Wallburg\, Wallburg
X-ALT-DESC;FMTTYPE=text/html:<strong>Kurzbeschreibung:</strong><br/>Festwoc
 henende zum Jubiläum 800 Jahre Wallburg mit abwechslungsreichem Programm<b
 r /><strong>Ort:</strong><br/>Wallburg\, Ettenheim<br /><strong>Veranstalt
 er:</strong><br/>Ortsverwaltung Wallburg<br /><strong>Termin:</strong><br/
 >Beginn: 26.09.2026<br/>Ende: 26.09.2026<br /><strong>Link:</strong><br/><
 a href='https://ok.edith-webco.de/de/veranstaltungen/detail/veranstaltung/
 id/589188-festwochenende-800-jahre-wallburg/?vt=1'>Zur Detailseite</a>
END:VEVENT
END:VCALENDAR
