BEGIN:VCALENDAR
VERSION:2.0
PRODID:-//ok.edith-webco.de//NONSGML kigkonsult.se iCalcreator 2.41.92//
CALSCALE:GREGORIAN
METHOD:PUBLISH
UID:30383536-6632-4063-a461-343564373466
X-WR-TIMEZONE:Europe/Berlin
X-LIC-LOCATION:Europe/Berlin
BEGIN:VEVENT
UID:590041-kulturportal@ok.edith-webco.de
DTSTAMP:20260425T160846Z
DESCRIPTION:Kurzbeschreibung:\n Die Burgbühne Oberkirch zeigt ein fröhlich-
 freches Theaterstück von Kindern für Kinder zum Thema Kranksein und wieder
  Gesundwerden!\n Ort:\n Freche Hus\n Apothekergasse 7\, 77704 Oberkirch\n 
 Veranstalter:\n Burgbühne Oberkirch\n Termin:\n Beginn: 05.12.2026\, 17:00
  Uhr\n Ende: 05.12.2026\n Tickets:\n Tickets kaufen\n https://ortenaukultu
 r.reservix.de/p/reservix/event/2523654\n Preise:\n bis 9\,00 € + Ermäßigun
 g\n *Preise inkl. MwSt.\n \n Link:\n Zur Detailseite
DTSTART;TZID=Europe/Berlin:20261205T170000
DTEND;TZID=Europe/Berlin:20261205T200000
LOCATION:Freche Hus\, Apothekergasse 7\, 77704 Oberkirch
SUMMARY:Rabe Socke - Alles wieder gut!\, Freche Hus
X-ALT-DESC;FMTTYPE=text/html:<strong>Kurzbeschreibung:</strong><br/>Die Bur
 gbühne Oberkirch zeigt ein fröhlich-freches Theaterstück von Kindern für K
 inder zum Thema Kranksein und wieder Gesundwerden! <br /><strong>Ort:</str
 ong><br/>Freche Hus<br/>Apothekergasse 7\, 77704 Oberkirch<br /><strong>Ve
 ranstalter:</strong><br/>Burgbühne Oberkirch<br /><strong>Termin:</strong>
 <br/>Beginn: 05.12.2026\, 17:00 Uhr<br/>Ende: 05.12.2026<br /><strong>Tick
 ets: </strong><br/><a rel='asdf' href='https://ok.edith-webco.de/de/detail
 /tickets/id/590041-rabe-socke-alles-wieder-gut/?follow=https%253A%252F%252
 Fortenaukultur.reservix.de%252Fp%252Freservix%252Fevent%252F2523654' targe
 t='_blank' title='' id='ticketlink'>Tickets kaufen</a><br/>https://ortenau
 kultur.reservix.de/p/reservix/event/2523654<br/><b>Preise: </b><br />bis 9
 \,00 &euro\;&nbsp\; + Ermäßigung<br />*Preise inkl. MwSt.<br /><br /><stro
 ng>Link:</strong><br/><a href='https://ok.edith-webco.de/de/veranstaltunge
 n/detail/veranstaltung/id/590041-rabe-socke-alles-wieder-gut/?vt=1'>Zur De
 tailseite</a>
END:VEVENT
END:VCALENDAR
