BEGIN:VCALENDAR
VERSION:2.0
PRODID:-//ok.edith-webco.de//NONSGML kigkonsult.se iCalcreator 2.41.92//
CALSCALE:GREGORIAN
METHOD:PUBLISH
UID:64613031-6435-4532-a561-653564336531
X-WR-TIMEZONE:Europe/Berlin
X-LIC-LOCATION:Europe/Berlin
BEGIN:VEVENT
UID:590635-kulturportal@ok.edith-webco.de
DTSTAMP:20260425T191230Z
DESCRIPTION:Kurzbeschreibung:\n Eine 15-minütige Kurzführung über die Bedeu
 tung Offenburgs als 'Reklamehauptstadt gegen Ende des 19. Jahrhunderts\n O
 rt:\n Museum im Ritterhaus\n Ritterstr. 10\, 77652 Offenburg\n Veranstalte
 r:\n Museum im Ritterhaus Offenburg\n Termin:\n Beginn: 10.06.2026\, 12:30
  Uhr\n Ende: 10.06.2026\n Link:\n Zur Detailseite
DTSTART;TZID=Europe/Berlin:20260610T123000
DTEND;TZID=Europe/Berlin:20260610T153000
LOCATION:Museum im Ritterhaus\, Ritterstr. 10\, 77652 Offenburg
SUMMARY:Kulturpause - Emailleschilder in der Welt\, Museum im Ritterhaus
X-ALT-DESC;FMTTYPE=text/html:<strong>Kurzbeschreibung:</strong><br/>Eine 15
 -minütige Kurzführung über die Bedeutung Offenburgs als 'Reklamehauptstadt
  gegen Ende des 19. Jahrhunderts<br /><strong>Ort:</strong><br/>Museum im 
 Ritterhaus<br/>Ritterstr. 10\, 77652 Offenburg<br /><strong>Veranstalter:<
 /strong><br/>Museum im Ritterhaus Offenburg<br /><strong>Termin:</strong><
 br/>Beginn: 10.06.2026\, 12:30 Uhr<br/>Ende: 10.06.2026<br /><strong>Link:
 </strong><br/><a href='https://ok.edith-webco.de/de/veranstaltungen/detail
 /veranstaltung/id/590635-kulturpause-emailleschilder-in-der-welt/?vt=1'>Zu
 r Detailseite</a>
END:VEVENT
END:VCALENDAR
