BEGIN:VCALENDAR
VERSION:2.0
PRODID:-//ok.edith-webco.de//NONSGML kigkonsult.se iCalcreator 2.41.92//
CALSCALE:GREGORIAN
METHOD:PUBLISH
UID:61653438-3331-4634-a333-353236656538
X-WR-TIMEZONE:Europe/Berlin
X-LIC-LOCATION:Europe/Berlin
BEGIN:VEVENT
UID:590860-kulturportal@ok.edith-webco.de
DTSTAMP:20260425T212941Z
DESCRIPTION:Kurzbeschreibung:\n An diesem Tag bieten die Illenau Werkstätte
 n Zeit und Raum für Familien nach Herzenslust kreativ zu werden.\n Ort:\n 
 Achern\n Rathaus Am Markt 1\, 77855 Achern\n Veranstalter:\n Illenau-Werks
 tätten e.V.\n Termin:\n Beginn: 17.05.2026\, 14:00 Uhr\n Ende: 17.05.2026
 \n Link:\n Zur Detailseite
DTSTART;TZID=Europe/Berlin:20260517T140000
DTEND;TZID=Europe/Berlin:20260517T170000
LOCATION:Achern\, Rathaus Am Markt 1\, 77855 Achern
SUMMARY:Kreativer Familientag \, Achern
X-ALT-DESC;FMTTYPE=text/html:<strong>Kurzbeschreibung:</strong><br/>An dies
 em Tag bieten die Illenau Werkstätten Zeit und Raum für Familien nach Herz
 enslust kreativ zu werden.<br /><strong>Ort:</strong><br/>Achern<br/>Ratha
 us Am Markt 1\, 77855 Achern<br /><strong>Veranstalter:</strong><br/>Illen
 au-Werkstätten e.V.<br /><strong>Termin:</strong><br/>Beginn: 17.05.2026\,
  14:00 Uhr<br/>Ende: 17.05.2026<br /><strong>Link:</strong><br/><a href='h
 ttps://ok.edith-webco.de/de/veranstaltungen/detail/veranstaltung/id/590860
 -kreativer-familientag/?vt=1'>Zur Detailseite</a>
END:VEVENT
END:VCALENDAR
