BEGIN:VCALENDAR
VERSION:2.0
PRODID:-//ok.edith-webco.de//NONSGML kigkonsult.se iCalcreator 2.41.92//
CALSCALE:GREGORIAN
METHOD:PUBLISH
UID:35323432-6335-4732-b033-623134616138
X-WR-TIMEZONE:Europe/Berlin
X-LIC-LOCATION:Europe/Berlin
BEGIN:VEVENT
UID:591252-kulturportal@ok.edith-webco.de
DTSTAMP:20260426T002105Z
DESCRIPTION:Kurzbeschreibung:\n Zeller Sommermusik - Thomas Strauß und Bern
 hard Münchbach – Trompete und Orgel\n Ort:\n Evangelische Kirche\n Kirchst
 r. 14\, 77736 Zell am Harmersbach\n Veranstalter:\n Kultur und Stadtmarket
 ing\n Termin:\n Beginn: 15.07.2026\, 19:00 Uhr\n Ende: 15.07.2026\n Link:
 \n Zur Detailseite
DTSTART;TZID=Europe/Berlin:20260715T190000
DTEND;TZID=Europe/Berlin:20260715T220000
LOCATION:Evangelische Kirche\, Kirchstr. 14\, 77736 Zell am Harmersbach
SUMMARY:Thomas Strauß und Bernhard Münchbach – Trompete und Orgel\, Evangel
 ische Kirche
X-ALT-DESC;FMTTYPE=text/html:<strong>Kurzbeschreibung:</strong><br/>Zeller 
 Sommermusik - Thomas Strauß und Bernhard Münchbach – Trompete und Orgel <b
 r /><strong>Ort:</strong><br/>Evangelische Kirche<br/>Kirchstr. 14\, 77736
  Zell am Harmersbach<br /><strong>Veranstalter:</strong><br/>Kultur und St
 adtmarketing<br /><strong>Termin:</strong><br/>Beginn: 15.07.2026\, 19:00 
 Uhr<br/>Ende: 15.07.2026<br /><strong>Link:</strong><br/><a href='https://
 ok.edith-webco.de/de/veranstaltungen/detail/veranstaltung/id/591252-thomas
 -strauss-und-bernhard-muenchbach-trompete-und-orgel/?vt=1'>Zur Detailseite
 </a>
END:VEVENT
END:VCALENDAR
