BEGIN:VCALENDAR
VERSION:2.0
PRODID:-//ok.edith-webco.de//NONSGML kigkonsult.se iCalcreator 2.41.92//
CALSCALE:GREGORIAN
METHOD:PUBLISH
UID:64353431-6261-4662-a533-396537383534
X-WR-TIMEZONE:Europe/Berlin
X-LIC-LOCATION:Europe/Berlin
BEGIN:VEVENT
UID:591323-kulturportal@ok.edith-webco.de
DTSTAMP:20260425T134904Z
DESCRIPTION:Kurzbeschreibung:\n Kreativ Workshop mit Lisa Schlegel von bunt
 emomente im Weingut Bieselin\n Ort:\n Weingut Bieselin\n Im Pfaffenbach 61
 \, 77955 Ettenheim\n Veranstalter:\n buntemomente\n Termin:\n Beginn: 18.0
 6.2026\, 17:30 Uhr\n Ende: 18.06.2026\n Link:\n Zur Detailseite
DTSTART;TZID=Europe/Berlin:20260618T173000
DTEND;TZID=Europe/Berlin:20260618T203000
LOCATION:Weingut Bieselin\, Im Pfaffenbach 61\, 77955 Ettenheim
SUMMARY:Wine & Paint im Weingut Bieselin\, Weingut Bieselin
X-ALT-DESC;FMTTYPE=text/html:<strong>Kurzbeschreibung:</strong><br/>Kreativ
  Workshop mit Lisa Schlegel von buntemomente im Weingut Bieselin<br /><str
 ong>Ort:</strong><br/>Weingut Bieselin<br/>Im Pfaffenbach 61\, 77955 Etten
 heim<br /><strong>Veranstalter:</strong><br/>buntemomente<br /><strong>Ter
 min:</strong><br/>Beginn: 18.06.2026\, 17:30 Uhr<br/>Ende: 18.06.2026<br /
 ><strong>Link:</strong><br/><a href='https://ok.edith-webco.de/de/veransta
 ltungen/detail/veranstaltung/id/591323-wine-paint-im-weingut-bieselin/?vt=
 1'>Zur Detailseite</a>
END:VEVENT
END:VCALENDAR
