BEGIN:VCALENDAR
VERSION:2.0
PRODID:-//ok.edith-webco.de//NONSGML kigkonsult.se iCalcreator 2.41.92//
CALSCALE:GREGORIAN
METHOD:PUBLISH
UID:64363061-3461-4465-a630-346562616235
X-WR-TIMEZONE:Europe/Berlin
X-LIC-LOCATION:Europe/Berlin
BEGIN:VEVENT
UID:591575-kulturportal@ok.edith-webco.de
DTSTAMP:20260425T210139Z
DESCRIPTION:Kurzbeschreibung:\n Wir freuen uns\, Georg Kreislers Musiktheat
 er 'Heute Abend: Lola Blau' zeigen zu dürfen\n Ort:\n Salmen\n Langestrass
 e 52\, 77652 Offenburg\n Veranstalter:\n Der Salmen\n Termin:\n Beginn: 19
 .06.2026\, 20:00 Uhr\n Ende: 19.06.2026\n Link:\n Zur Detailseite
DTSTART;TZID=Europe/Berlin:20260619T200000
DTEND;TZID=Europe/Berlin:20260619T230000
LOCATION:Salmen\, Langestrasse 52\, 77652 Offenburg
SUMMARY:Musiktheater: Heute Abend: Lola Blau\, Salmen
X-ALT-DESC;FMTTYPE=text/html:<strong>Kurzbeschreibung:</strong><br/>Wir fre
 uen uns\, Georg Kreislers Musiktheater 'Heute Abend: Lola Blau' zeigen zu 
 dürfen<br /><strong>Ort:</strong><br/>Salmen<br/>Langestrasse 52\, 77652 O
 ffenburg<br /><strong>Veranstalter:</strong><br/>Der Salmen<br /><strong>T
 ermin:</strong><br/>Beginn: 19.06.2026\, 20:00 Uhr<br/>Ende: 19.06.2026<br
  /><strong>Link:</strong><br/><a href='https://ok.edith-webco.de/de/verans
 taltungen/detail/veranstaltung/id/591575-musiktheater-heute-abend-lola-bla
 u/?vt=1'>Zur Detailseite</a>
END:VEVENT
END:VCALENDAR
