BEGIN:VCALENDAR
VERSION:2.0
PRODID:-//ok.edith-webco.de//NONSGML kigkonsult.se iCalcreator 2.41.92//
CALSCALE:GREGORIAN
METHOD:PUBLISH
UID:33313961-6666-4431-a632-326665343430
X-WR-TIMEZONE:Europe/Berlin
X-LIC-LOCATION:Europe/Berlin
BEGIN:VEVENT
UID:591599-kulturportal@ok.edith-webco.de
DTSTAMP:20260425T173426Z
DESCRIPTION:Kurzbeschreibung:\n Erlebe ein unvergessliches Live-Konzert im 
 Rockcafé Altdorf mit mitreißender Musik und ausgelassener Stimmung – ein A
 bend voller Energie!\n Ort:\n Rockcafé Altdorf\n Industriestr. 3\, 77955 E
 ttenheim\n Veranstalter:\n Kulturschmiede Südbaden e.V.\n Termin:\n Beginn
 : 05.06.2026\, 20:00 Uhr\n Ende: 05.06.2026\n Tickets:\n Eintritt frei! De
 r Hut geht um.\n Link:\n Zur Detailseite
DTSTART;TZID=Europe/Berlin:20260605T200000
DTEND;TZID=Europe/Berlin:20260605T230000
LOCATION:Rockcafé Altdorf\, Industriestr. 3\, 77955 Ettenheim
SUMMARY:Wake Up (Rage Against the Machine Tribute Band)\, Rockcafé Altdorf
X-ALT-DESC;FMTTYPE=text/html:<strong>Kurzbeschreibung:</strong><br/>Erlebe 
 ein unvergessliches Live-Konzert im Rockcafé Altdorf mit mitreißender Musi
 k und ausgelassener Stimmung – ein Abend voller Energie!<br /><strong>Ort:
 </strong><br/>Rockcafé Altdorf<br/>Industriestr. 3\, 77955 Ettenheim<br />
 <strong>Veranstalter:</strong><br/>Kulturschmiede Südbaden e.V.<br /><stro
 ng>Termin:</strong><br/>Beginn: 05.06.2026\, 20:00 Uhr<br/>Ende: 05.06.202
 6<br /><strong>Tickets: </strong><br/>Eintritt frei! Der Hut geht um.<br /
 ><strong>Link:</strong><br/><a href='https://ok.edith-webco.de/de/veransta
 ltungen/detail/veranstaltung/id/591599-wake-up-rage-against-the-machine-tr
 ibute-band/?vt=1'>Zur Detailseite</a>
END:VEVENT
END:VCALENDAR
