BEGIN:VCALENDAR
VERSION:2.0
PRODID:-//ok.edith-webco.de//NONSGML kigkonsult.se iCalcreator 2.41.92//
CALSCALE:GREGORIAN
METHOD:PUBLISH
UID:35363737-6133-4966-a431-303562313366
X-WR-TIMEZONE:Europe/Berlin
X-LIC-LOCATION:Europe/Berlin
BEGIN:VEVENT
UID:591603-kulturportal@ok.edith-webco.de
DTSTAMP:20260425T230306Z
DESCRIPTION:Kurzbeschreibung:\n Kunst im öffentlichen Raum - Ein Rundgang z
 um Skulpturenpark am Kesselhaus\n Ort:\n Villa Bauer\, Offenburg\n Veranst
 alter:\n Städtische Galerie Offenburg\n Termin:\n Beginn: 07.07.2026\, 18:
 00 Uhr\n Ende: 07.07.2026\n Link:\n Zur Detailseite
DTSTART;TZID=Europe/Berlin:20260707T180000
DTEND;TZID=Europe/Berlin:20260707T210000
LOCATION:Villa Bauer\, Offenburg
SUMMARY:Wer bist du denn?\, Villa Bauer
X-ALT-DESC;FMTTYPE=text/html:<strong>Kurzbeschreibung:</strong><br/>Kunst i
 m öffentlichen Raum - Ein Rundgang zum Skulpturenpark am Kesselhaus<br /><
 strong>Ort:</strong><br/>Villa Bauer\, Offenburg<br /><strong>Veranstalter
 :</strong><br/>Städtische Galerie Offenburg<br /><strong>Termin:</strong><
 br/>Beginn: 07.07.2026\, 18:00 Uhr<br/>Ende: 07.07.2026<br /><strong>Link:
 </strong><br/><a href='https://ok.edith-webco.de/de/veranstaltungen/detail
 /veranstaltung/id/591603-wer-bist-du-denn/?vt=1'>Zur Detailseite</a>
END:VEVENT
END:VCALENDAR
