BEGIN:VCALENDAR
VERSION:2.0
PRODID:-//ok.edith-webco.de//NONSGML kigkonsult.se iCalcreator 2.41.92//
CALSCALE:GREGORIAN
METHOD:PUBLISH
UID:65663130-6433-4833-b633-353963353338
X-WR-TIMEZONE:Europe/Berlin
X-LIC-LOCATION:Europe/Berlin
BEGIN:VEVENT
UID:591624-kulturportal@ok.edith-webco.de
DTSTAMP:20260425T123216Z
DESCRIPTION:Kurzbeschreibung:\n Tanzworkshop für Kinder und Jugendliche 11 
 - 15 Jahre in den Ateliers der Kunstschule Offenburg\n Ort:\n KUNSTSCHULE 
 Offenburg\n Weingartenstr. 34b\, 77654 Offenburg\n Veranstalter:\n KUNSTSC
 HULE Offenburg\n Termin:\n Beginn: 03.05.2026\, 13:00 Uhr\n Ende: 03.05.20
 26\n Link:\n Zur Detailseite
DTSTART;TZID=Europe/Berlin:20260503T130000
DTEND;TZID=Europe/Berlin:20260503T160000
LOCATION:KUNSTSCHULE Offenburg\, Weingartenstr. 34b\, 77654 Offenburg
SUMMARY:Mix Contemporary und Urban Dance\, KUNSTSCHULE Offenburg
X-ALT-DESC;FMTTYPE=text/html:<strong>Kurzbeschreibung:</strong><br/>Tanzwor
 kshop für Kinder und Jugendliche 11 - 15 Jahre in den Ateliers der Kunstsc
 hule Offenburg<br /><strong>Ort:</strong><br/>KUNSTSCHULE Offenburg<br/>We
 ingartenstr. 34b\, 77654 Offenburg<br /><strong>Veranstalter:</strong><br/
 >KUNSTSCHULE Offenburg<br /><strong>Termin:</strong><br/>Beginn: 03.05.202
 6\, 13:00 Uhr<br/>Ende: 03.05.2026<br /><strong>Link:</strong><br/><a href
 ='https://ok.edith-webco.de/de/veranstaltungen/detail/veranstaltung/id/591
 624-mix-contemporary-und-urban-dance/?vt=1'>Zur Detailseite</a>
END:VEVENT
END:VCALENDAR
