BEGIN:VCALENDAR
VERSION:2.0
PRODID:-//ok.edith-webco.de//NONSGML kigkonsult.se iCalcreator 2.41.92//
CALSCALE:GREGORIAN
METHOD:PUBLISH
UID:66656561-3636-4139-b564-393063353561
X-WR-TIMEZONE:Europe/Berlin
X-LIC-LOCATION:Europe/Berlin
BEGIN:VEVENT
UID:593886-kulturportal@ok.edith-webco.de
DTSTAMP:20260425T021016Z
DESCRIPTION:Kurzbeschreibung:\n Dein Jugendkulturfestival mit Musik\, Kunst
  und Tanz von jungen Menschen für junge Menschen im Kulturhaus Kehl.\n Ort
 :\n Das Kulturhaus.\n Am Läger 12\, 77694 Kehl\n Veranstalter:\n Kulturbür
 o Kehl\n Termin:\n Beginn: 10.07.2026\n Ende: 10.07.2026\n Link:\n Zur Det
 ailseite
DTSTART;TZID=Europe/Berlin:20260710T000000
DTEND;TZID=Europe/Berlin:20260710T030000
LOCATION:Das Kulturhaus.\, Am Läger 12\, 77694 Kehl
SUMMARY:MACHT EUCH LAUT\, Das Kulturhaus.
X-ALT-DESC;FMTTYPE=text/html:<strong>Kurzbeschreibung:</strong><br/>Dein Ju
 gendkulturfestival mit Musik\, Kunst und Tanz von jungen Menschen für jung
 e Menschen im Kulturhaus Kehl.<br /><strong>Ort:</strong><br/>Das Kulturha
 us.<br/>Am Läger 12\, 77694 Kehl<br /><strong>Veranstalter:</strong><br/>K
 ulturbüro Kehl<br /><strong>Termin:</strong><br/>Beginn: 10.07.2026<br/>En
 de: 10.07.2026<br /><strong>Link:</strong><br/><a href='https://ok.edith-w
 ebco.de/de/veranstaltungen/detail/veranstaltung/id/593886-macht-euch-laut/
 ?vt=1'>Zur Detailseite</a>
END:VEVENT
END:VCALENDAR
